{"text_format":"1","workbook":"xlsx","n_sheets":12,"sheets":["初めにお読みください","記入例","入力","セル移動","作業用","選択リスト","通行制限願","建設部長","警察署長","消防長","市町村長","申請者"],"not_rendered":{"charts":0,"images":0,"macros":1,"external_links":0,"defined_names":16,"comments":0,"pivot_tables":0},"unopened":[],"bounds":{"document_bytes":16777216,"sheet_cells":100000,"rows_first":2000,"rows_last":500,"rows_between":2000,"halvings":0,"cell_chars":16384,"cell_head_chars":4096},"cells_cut":0,"cells_raw":0,"read":"whole","date_system":"1900"}

{"sheet":"初めにお読みください","index":0,"n_rows":38,"n_cols":8,"rows_kept":38,"cut":false,"hidden":false,"merged":[[3,2,3,9],[7,1,7,9],[9,2,9,9],[2,2,2,9],[1,0,1,9],[5,1,5,9],[6,1,6,9],[4,1,4,9],[21,2,21,9],[22,2,22,9],[8,1,8,9],[16,2,16,9],[17,2,17,9],[10,2,10,9],[11,2,11,9],[12,2,12,9],[13,2,13,9],[14,2,14,9],[15,2,15,9],[35,7,35,9],[36,7,36,9],[37,7,37,9],[30,0,30,9],[24,2,25,9],[33,0,33,9],[29,0,29,9],[31,0,31,9],[32,0,32,9]]}
[null,"重要"]
["　この様式は、マクロを利用して入力チェックや印刷制御を行っていますので、ファイルを開いたときにマクロを有効にしてください。"]
[1,null,"の部分は、数字や文字を直接入力してください。"]
[2,null,"の部分は、選択セル右側の小さな▼をクリックして、必要な字句を選択してください。"]
[3,"不要な字句は、[Delete]キーで削除してください。"]
[4,"入力可能なセルへは、[Enter]キーを押すことで次のセルへ移動します。"]
[5,"　　　　　　　このボタンを押すと入力内容のチェックを行います。\n　　　　　　　必須エラーがでた場合は、入力データの修正をお願いします。\n　　　　　　　確認エラーについては、内容が正しければ次回からエラーは無視して結構です。"]
[6,"　　　　　　　このボタンを押すと、建設事務所提出用の通行制限願を必要部数印刷します。\n　　　　　　　なお、提出用の文書のエクセルシートは非表示となっています。\n　　　　　　　印刷時にも入力内容のチェックは行われます。"]
[7,"入力内容"]
["(1)","路線名","選択リストから選択してください。同工事であっても路線が複数になる場合は、路線ごとに申請してください。"]
["(2)","通行制限箇所","字名若しくは地番まで詳細に記入してください。なお、制限箇所が複数の市町村にまたがる場合は、提出部数が増えますので、印刷後の書類すべてに添付図書を添付してください。"]
["(3)","通行制限理由","国補・県単事業は、土木工事種目別により記入し、具体的な工事内容も併せて記入してください。\nその他の場合は、通行制限を行う理由を具体的に記入してください。"]
["(4)","種別","片側交互通行、車両通行止等を選択リストから選択してください。複数ある場合は、横のセルに入力することができます。"]
["(5)","通行制限期間","実際に通行制限をかける期間を入力してください。なお、片側交互通行以外の通行止の場合は、実際に通行止めになる日数を（うち　日程度）の欄に記入してください。"]
["(6)","通行制限時間","終日、時間制限の別を選択リストから選択してください。\n「時間制限」の場合は、通勤・通学の時間帯を避けるようお願いします。\n例：（8：30～17：00）のように記入してください。\nまた、通行制限を行わない日があれば記入してください。\n例：土日曜・祝日は開放"]
["(7)","工事期間","工事期間を記入してください。"]
["(8)","バス路線の有無","選択リストから選択してください。「有」の場合は、バス会社名も記入してください。"]
["(9)","迂回路線の有無","選択リストから選択してください。「有」の場合は、迂回路線名を記入し、添付図書の位置図に緑色で路線を着色してください。"]
[]
[null,"添付書類"]
[]
[1,"位置図","・道路地図、住宅地図等の写しに、通行規制箇所を赤色で明示"]
[2,"付近見取図","・案内標識･工事表示板･バリケード･交通整理員･信号機･セイフティーコーン等の設置位置を明示"]
[null,null,"・制限区間（工事区間）の延長及び通行可能幅員を明示"]
[null,null,"・車両通行止･全面通行止･大型車通行止の場合は、迂回路を緑色で明示し、案内標識･設置位置等を明示"]
[]
[]
[null,"留意事項"]
[]
["　申請から承諾（郵送による書類の返送）まで、数日かかりますので、余裕を持って手続きをされるようお願いします。"]
["　なお、原則として、片側交互通行は１週間前、通行止は２週間前までに提出をお願いします。"]
["　内容によっては、変更をお願いする場合もありますので、予めご了承ください。"]
["　提出部数は、原則６部ですが、通行制限箇所が複数の市町村にまたがる場合は追加市町村分が必要になります。印刷される用紙すべてに添付図書を添付の上、提出してください。\n　また、全面通行止等で影響が大きい場合は、部数の追加をお願いすることがあります。"]
["　ご不明な点は、下記窓口へお問い合わせください。"]
[]
[null,null,null,null,null,null,null,"長野県大町建設事務所"]
[null,null,null,null,null,null,null,"維持管理課　管理係"]
[null,null,null,null,null,null,null,"電話：0261-23-6533(直通)"]

{"sheet":"記入例","index":1,"n_rows":39,"n_cols":50,"rows_kept":39,"cut":false,"hidden":false,"merged":[[36,1,36,49],[37,1,37,49],[38,1,38,49],[30,1,30,49],[31,1,31,49],[32,1,32,49],[33,1,33,49],[34,1,34,49],[35,1,35,49],[26,0,27,0],[26,1,27,2],[26,3,26,6],[26,7,26,49],[27,3,27,6],[27,7,27,49],[28,0,29,0],[28,1,28,2],[28,3,28,6],[28,7,28,49],[29,1,29,2],[29,3,29,6],[29,7,29,31],[29,32,29,35],[29,36,29,48],[24,1,24,2],[24,4,24,6],[24,8,24,16],[24,18,24,49],[23,21,23,23],[23,24,23,25],[23,26,23,27],[23,28,23,29],[25,1,25,2],[25,4,25,6],[25,8,25,16],[25,18,25,49],[22,16,22,17],[22,18,22,19],[22,20,22,21],[23,30,23,31],[23,32,23,33],[22,27,22,49],[23,1,23,2],[23,4,23,6],[23,7,23,8],[23,9,23,10],[23,11,23,12],[23,13,23,14],[23,15,23,16],[23,34,23,35],[23,36,23,49],[22,23,22,24],[22,25,22,26],[23,17,23,18],[23,19,23,20],[21,43,21,49],[19,1,19,2],[19,4,19,49],[20,1,20,2],[20,4,20,15],[20,17,20,28],[20,30,20,41],[20,42,20,49],[21,1,21,2],[21,4,21,6],[21,7,21,8],[21,9,21,10],[21,11,21,12],[21,13,21,14],[21,32,21,33],[21,34,21,35],[21,36,21,39],[21,40,21,42],[22,1,22,2],[22,4,22,10],[22,11,22,12],[22,13,22,14],[21,15,21,16],[21,17,21,18],[21,19,21,20],[21,21,21,23],[12,19,12,49],[13,15,13,17],[13,19,13,38],[15,0,15,49],[16,0,16,49],[17,0,17,2],[17,4,17,38],[17,39,17,49],[18,1,18,2],[18,4,18,49],[21,28,21,29],[21,30,21,31],[21,24,21,25],[21,26,21,27],[11,15,11,17],[11,19,11,49],[0,0,1,0],[0,1,0,30],[1,1,1,30],[3,0,3,49],[5,35,5,37],[5,38,5,39],[5,40,5,41],[5,42,5,43],[5,48,5,49],[8,15,8,17],[8,21,8,27],[9,19,10,49],[5,44,5,45],[5,46,5,47]]}
["メッセージ"]
[null,"記入例"]
[]
["道　路　通　行　制　限　願"]
[]
[null,null,null,null,null,null,null,null,null,null,null,null,null,null,null,null,null,null,null,null,null,null,null,null,null,null,null,null,null,null,null,null,null,null,null,"令和",null,null,"元",null,"年",null,10,null,"月",null,1,null,"日"]
[]
[null,"長野県大町建設事務所長　殿"]
[null,null,null,null,null,null,null,null,null,null,null,null,null,null,null,"住所",null,null,null,"〒",null,3988602]
[null,null,null,null,null,null,null,null,null,null,null,null,null,null,null,null,null,null,null,"大町市大町1058-2"]
[]
[null,null,null,null,null,null,null,null,null,null,null,null,null,null,null,"氏名",null,null,null,"株式会社　大町建設"]
[null,null,null,null,null,null,null,null,null,null,null,null,null,null,null,null,null,null,null,"代表取締役　大町　一郎"]
[null,null,null,null,null,null,null,null,null,null,null,null,null,null,null,"電話",null,null,null,"0261-23-6533"]
[]
["　下記のとおり通行制限をお願いします。"]
["記"]
["路　　線　　名",null,null,null,"国道147号"]
[1,"通行制限箇所",null,null,"大町市常盤1234番地先"]
[2,"通行制限理由",null,null,"令和元年度　県単道路改良工事　（舗装修繕工事）"]
[3,"種別",null,"　","片側交互通行"]
[4,"通行制限期間",null,null,"令和",null,null,"元",null,"年",null,10,null,"月",null,20,null,"日",null,"～",null,"令和",null,null,"元",null,"年",null,10,null,"月",null,30,null,"日",null,"（うち",null,null,null,2,null,null,"日間程度）"]
[5,"　〃　　 時間",null,null,"時間制限",null,null,null,null,null,null,"（",null,"9",null,"：","00",null,"～",null,"17",null,"：","00",null,"）",null,"土、日曜日は開放"]
[6,"工事期間",null,null,"令和",null,null,"元",null,"年",null,10,null,"月",null,20,null,"日",null,"～",null,"令和",null,null,"元",null,"年",null,10,null,"月",null,30,null,"日"]
[7,"バス路線の\n有無",null,null,"有",null,null,null,"(バス会社名)",null,null,null,null,null,null,null,null,null,"市営バス"]
[8,"迂回路線の\n有無",null,null,"無",null,null,null,"(迂回路線名)"]
[9,"工事施工者",null,"住所",null,null,null,"大町市大町1058-2"]
[null,null,null,"氏名",null,null,null,"株式会社　大町建設　代表取締役　大町　一郎"]
[10,"工事施工現場",null,"住所",null,null,null,"大町市大町1058-2"]
[null,"責任者",null,"氏名",null,null,null,"大町　次郎",null,null,null,null,null,null,null,null,null,null,null,null,null,null,null,null,null,null,null,null,null,null,null,null,"電話(",null,null,null,"090-1234-5678",null,null,null,null,null,null,null,null,null,null,null,null,")"]
[null,"（注）　１．　添付図書は、位置図５万分の１、平面図又は附近見取図へ工事標識、バリケード等の設置を記入したものを"]
[null,"　　　　　　　６部作成し、願い以下のそれぞれの用紙に添付して下さい。"]
[null,"　　　　　　　なお、全面通行止等で影響が大きい場合は、部数の追加をお願いする場合があります。"]
[null,"　　　　２．　通行制限理由欄には、国補、県単事業については、土木工事種目別により記入して下さい。"]
[null,"　　　　　　　　　　　　　（例　○○年度第１種特殊改良工事、○○年度交通安全施設整備工事・・・）　　　　　　　　　　　　　"]
[null,"　　　　３．　具体的工事内容欄には、舗装工事・下水道工事・電柱建立等の具体的な工事内容を記入してください。"]
[null,"　　　　４．　９の工事施工者欄は個人の場合はその住所、氏名、会社の場合は、会社名と会社の住所、氏名欄は代表者"]
[null,"　　　　　　　名を記入して下さい。"]
[null,"　　　　５．　片側通行止めの場合は１週間前までに、その他通行止めの場合は２週間前までに提出してください。"]

{"sheet":"入力","index":2,"n_rows":39,"n_cols":50,"rows_kept":39,"cut":false,"hidden":false,"merged":[[3,0,3,49],[15,0,15,49],[13,19,13,38],[5,44,5,45],[5,42,5,43],[5,40,5,41],[0,0,1,0],[0,1,0,30],[22,18,22,19],[22,20,22,21],[22,23,22,24],[22,13,22,14],[22,25,22,26],[22,27,22,49],[17,4,17,38],[22,1,22,2],[22,16,22,17],[18,4,18,49],[19,1,19,2],[19,4,19,49],[16,0,16,49],[17,0,17,2],[17,39,17,49],[18,1,18,2],[28,0,29,0],[28,1,28,2],[28,3,28,6],[28,7,28,49],[29,1,29,2],[23,1,23,2],[20,1,20,2],[21,1,21,2],[22,4,22,10],[23,7,23,8],[23,4,23,6],[23,9,23,10],[21,4,21,6],[20,4,20,15],[21,9,21,10],[26,0,27,0],[26,1,27,2],[26,3,26,6],[29,3,29,6],[29,7,29,31],[29,32,29,35],[29,36,29,48],[21,17,21,18],[20,17,20,28],[20,42,20,49],[21,43,21,49],[21,36,21,39],[21,40,21,42],[21,30,21,31],[23,30,23,31],[23,32,23,33],[26,7,26,49],[27,3,27,6],[27,7,27,49],[25,1,25,2],[25,4,25,6],[24,18,24,49],[24,1,24,2],[24,4,24,6],[8,21,8,27],[5,46,5,47],[36,1,36,49],[21,21,21,23],[21,13,21,14],[21,15,21,16],[8,15,8,17],[11,15,11,17],[13,15,13,17],[9,19,10,49],[11,19,11,49],[23,17,23,18],[25,18,25,49],[25,8,25,16],[24,8,24,16],[21,7,21,8],[23,24,23,25],[23,26,23,27],[23,28,23,29],[22,11,22,12],[23,11,23,12],[23,19,23,20],[21,26,21,27],[21,28,21,29],[1,1,1,32],[38,1,38,49],[35,1,35,49],[30,1,30,49],[31,1,31,49],[32,1,32,49],[33,1,33,49],[34,1,34,49],[20,30,20,41],[21,32,21,33],[37,1,37,49],[23,21,23,23],[23,34,23,35],[21,34,21,35],[21,19,21,20],[23,13,23,14],[23,15,23,16],[21,11,21,12],[23,36,23,49],[21,24,21,25],[5,38,5,39],[12,19,12,49],[5,48,5,49],[5,35,5,37]]}
["メッセージ"]
[null,"申請日を入力してください。"]
[]
["道　路　通　行　制　限　願"]
[]
[null,null,null,null,null,null,null,null,null,null,null,null,null,null,null,null,null,null,null,null,null,null,null,null,null,null,null,null,null,null,null,null,null,null,null,"令和",null,null,null,null,"年",null,null,null,"月",null,null,null,"日"]
[]
[null,"長野県大町建設事務所長　殿"]
[null,null,null,null,null,null,null,null,null,null,null,null,null,null,null,"住所",null,null,null,"〒"]
[]
[]
[null,null,null,null,null,null,null,null,null,null,null,null,null,null,null,"氏名"]
[]
[null,null,null,null,null,null,null,null,null,null,null,null,null,null,null,"電話"]
[]
["　下記のとおり通行制限をお願いします。"]
["記"]
["路　　線　　名"]
[1,"通行制限箇所"]
[2,"通行制限理由"]
[3,"種別",null,"　"]
[4,"通行制限期間",null,null,"令和",null,null,null,null,"年",null,null,null,"月",null,null,null,"日",null,"～",null,"令和",null,null,null,null,"年",null,null,null,"月",null,null,null,"日",null,"（うち",null,null,null,null,null,null,"日間程度）"]
[5,"　〃　　 時間",null,null,null,null,null,null,null,null,null,"（",null,null,null,"：",null,null,"～",null,null,null,"：",null,null,"）",null,"（うち　日間程度）"]
[6,"工事期間",null,null,"令和",null,null,null,null,"年",null,null,null,"月",null,null,null,"日",null,"～",null,"令和",null,null,null,null,"年",null,null,null,"月",null,null,null,"日"]
[7,"バス路線の\n有無",null,null,null,null,null,null,"(バス会社名)"]
[8,"迂回路線の\n有無",null,null,null,null,null,null,"(迂回路線名)"]
[9,"工事施工者",null,"住所"]
[null,null,null,"氏名"]
[10,"工事施工現場",null,"住所"]
[null,"責任者",null,"氏名",null,null,null,null,null,null,null,null,null,null,null,null,null,null,null,null,null,null,null,null,null,null,null,null,null,null,null,null,"電話(",null,null,null,null,null,null,null,null,null,null,null,null,null,null,null,null,")"]
[null,"（注）　１．　添付図書は、位置図５万分の１、平面図又は附近見取図へ工事標識、バリケード等の設置を記入したものを"]
[null,"　　　　　　　６部作成し、願い以下のそれぞれの用紙に添付して下さい。"]
[null,"　　　　　　　なお、全面通行止等で影響が大きい場合は、部数の追加をお願いする場合があります。"]
[null,"　　　　２．　通行制限理由欄には、国補、県単事業については、土木工事種目別により記入して下さい。"]
[null,"　　　　　　　　　　　　　（例　○○年度第１種特殊改良工事、○○年度交通安全施設整備工事・・・）　　　　　　　　　　　　　"]
[null,"　　　　　　　また、舗装工事・下水道工事・電柱建立等の具体的な工事内容も併せて記入してください。"]
[null,"　　　　３．　９の工事施工者欄は個人の場合はその住所、氏名、会社の場合は、会社名と会社の住所、氏名欄は代表者"]
[null,"　　　　　　　名を記入して下さい。"]
[null,"　　　　４．　片側通行止めの場合は１週間前までに、その他通行止めの場合は２週間前までに提出してください。"]

{"sheet":"セル移動","index":3,"n_rows":44,"n_cols":3,"rows_kept":44,"cut":false,"hidden":true,"merged":[]}
["現在のセル位置","AM6",{"$f":"VLOOKUP(B1,B3:C44,2,FALSE)","v":"申請日を入力してください。"}]
["セル名","移動セル","メッセージ"]
["申請：年","AM6","申請日を入力してください。"]
["申請：月","AQ6","申請日を入力してください。"]
["申請：日","AU6","申請日を入力してください。"]
["郵便番号","V9","郵便番号を入力してください。"]
["住所","T10","申請者の住所を入力してください。"]
["法人名","T12","法人名等を入力してください。"]
["代表者名","T13","代表者名を入力してください。"]
["電話番号","T14","電話番号を入力してください。"]
["路線名","E18","通行制限を行う路線名を選択リストから選択入力してください。\n路線が複数になる場合は、路線ごとに申請してください。"]
["制限箇所","E19","字名若しくは地番まで詳細に記入してください。"]
["制限理由","E20","国補・県単事業は、土木工事種目別により記入し、具体的な工事内容も併せて記入してください。\nその他の場合は、通行制限を行う理由を具体的に記入してください。"]
["種別１","E21","片側交互通行、車両通行止等を選択リストから選択入力してください。"]
["種別２","R21","片側交互通行、車両通行止等を選択リストから選択入力してください。"]
["種別３","AE21","片側交互通行、車両通行止等を選択リストから選択入力してください。"]
["開始：年","H22","実際に通行制限をかける開始年月日を入力してください。"]
["開始：月","L22","実際に通行制限をかける開始年月日を入力してください。"]
["開始：日","P22","実際に通行制限をかける開始年月日を入力してください。"]
["終了：年","Y22","実際に通行制限をかける終了年月日を入力してください。"]
["終了：月","AC22","実際に通行制限をかける終了年月日を入力してください。"]
["終了：日","AG22","実際に通行制限をかける終了年月日を入力してください。"]
["うち○日","AO22","片側交互通行以外の通行止の場合は、実際に通行止となる日数を\n（うち　日程度）の欄に記入してください。"]
["制限の別","E23","通行制限を行う時間を選択リストから選択入力してください。"]
["開始：時","N23","時間制限の場合の開始時刻を入力してください。\nなお、通勤・通学時間帯を避け8：30以降となるよう願いします。"]
["開始：分","Q23","時間制限の場合の開始時刻を入力してください。\nなお、通勤・通学時間帯を避け8：30以降となるよう願いします。"]
["終了：時","U23","時間制限の場合の終了時刻を入力してください。\nなお、通勤・通学時間帯を避け17：00以前となるよう願いします。"]
["終了：分","X23","時間制限の場合の終了時刻を入力してください。\nなお、通勤・通学時間帯を避け17：00以前となるよう願いします。"]
["除外日","AB23","通行制限を行わない日が有れば記入してください。\n例：土日曜日、祝日は開放"]
["工事開始：年","H24","工事の開始日を入力してください。"]
["工事開始：月","L24","工事の開始日を入力してください。"]
["工事開始：日","P24","工事の開始日を入力してください。"]
["工事終了：年","Y24","工事の完了日を入力してください。"]
["工事終了：月","AC24","工事の完了日を入力してください。"]
["工事終了：日","AG24","工事の完了日を入力してください。"]
["バス路線の有無","E25","バス路線の有無を選択リストから選択入力してください。"]
["バス会社名","S25","バス路線が有る場合は、バス会社名を入力してください。"]
["迂回路線の有無","E26","迂回路線の有無を選択リストから選択入力してください。"]
["迂回路線名","S26","迂回路線が有る場合は、迂回路線名を入力してください。\nまた、添付図書の位置図に緑色で迂回路線を着色してください。"]
["工事施行者：住所","H27","工事を行う会社の住所を入力してください。"]
["工事施行者：氏名","H28","工事を行う会社名を入力してください。"]
["現場責任者：住所","H29","現場責任者の住所を入力してください。"]
["現場責任者：氏名","H30","現場責任者の氏名を入力してください。"]
["現場責任者：電話","AK30","現場責任者の連絡先電話番号を入力してください。"]

{"sheet":"作業用","index":4,"n_rows":48,"n_cols":16,"rows_kept":48,"cut":false,"hidden":true,"merged":[]}
[null,{"$f":"\"H\"&入力!AM6&\"/\"&入力!AQ6&\"/\"&入力!AU6","v":"H//"},"一週間後","二週間後",null,"エラーメッセージ","エラーの有無","セル移動先","チェック済","重大なエラー","エラー時に赤くするセル"]
["申請日",{"$f":"IF(ISERROR(B1+0)=FALSE,B1+0,\"×\")","v":"×"},{"$f":"B2+7","v":{"$error":"#VALUE!"}},{"$f":"B2+14","v":{"$error":"#VALUE!"}},null,"申請日が未入力です。",{"$f":"IF(B2=\"×\",\"×\",\"○\")","v":"×"},"am6",null,"○","am6","aq6","au6"]
[null,null,null,null,null,"郵便番号が未入力です。",{"$f":"IF(入力!V9=\"\",\"×\",\"○\")","v":"×"},"v9",null,"○","v9"]
["通行制限箇所",{"$f":"入力!E19","v":0},null,"提出部数",null,"住所が未入力です。",{"$f":"IF(入力!T10=\"\",\"×\",\"○\")","v":"×"},"t10",null,"○","t10"]
["該当市町村","大町市",{"$f":"IF(ISERROR(SEARCH(B5,$B$4,1)),\"×\",\"○\")","v":"×"},{"$f":"COUNTIF(C5:C12,\"○\")+5","v":5},null,"氏名が未入力です。",{"$f":"IF(入力!T12=\"\",\"×\",\"○\")","v":"×"},"t12",null,"○","t12"]
[null,"池田町","×",{"$f":"COUNTIF(C5:C12,\"○\")","v":0},null,"電話番号が未入力です。",{"$f":"IF(入力!T14=\"\",\"×\",\"○\")","v":"×"},"t14",null,"○","t14"]
[null,"松川村","×",null,null,"路線名が未入力です。",{"$f":"IF(入力!E18=\"\",\"×\",\"○\")","v":"×"},"e18",null,"○","e18"]
[null,"白馬村","×",null,null,"通行制限箇所が未入力です。",{"$f":"IF(入力!E19=\"\",\"×\",\"○\")","v":"×"},"e19",null,"○","e19"]
[null,"小谷村","×",null,null,"通行制限理由が未入力です。",{"$f":"IF(入力!E20=\"\",\"×\",\"○\")","v":"×"},"e20",null,"○","e20"]
[null,"安曇野市","×",null,null,"通行制限の種別が未入力です。",{"$f":"IF(B17=\"\",\"×\",\"○\")","v":"×"},"e21",null,"○","e21"]
[null,"小川村","×",null,null,"通行制限期間（開始日）が未入力です。",{"$f":"IF(C20=\"×\",\"×\",\"○\")","v":"×"},"h22",null,"○","h22","l22","p22"]
[null,"長野市","×",null,null,"通行制限期間（終了日）が未入力です。",{"$f":"IF(C23=\"×\",\"×\",\"○\")","v":"×"},"y22",null,"○","y22","ac22","ag22"]
[null,null,null,null,null,"通行制限時間（時間制限か終日）が未入力です。",{"$f":"IF(入力!E23=\"\",\"×\",\"○\")","v":"×"},"e23",null,"○","e23"]
["通行制限理由",{"$f":"入力!E20","v":0},null,null,null,"工事期間（開始日）が未入力です。",{"$f":"IF(C33=\"×\",\"×\",\"○\")","v":"×"},"h24",null,"○","h24","l24","p24"]
["工事かどうか","工事",{"$f":"IF(ISERROR(SEARCH(B15,B14,1))=FALSE,\"○\",\"×\")","v":"×"},null,null,"工事期間（終了日）が未入力です。",{"$f":"IF(C34=\"×\",\"×\",\"○\")","v":"×"},"y24",null,"○","y24","ac24","ag24"]
[null,null,null,null,null,"バス路線の有無が未入力です。",{"$f":"IF(入力!E25=\"\",\"×\",\"○\")","v":"×"},"e25",null,"○","e25"]
["通行制限の種別",{"$f":"入力!E21&入力!R21&入力!AE21","v":""},{"$f":"IF(B17=\"\",\"×\",\"○\")","v":"×"},"実際の期間未入力",null,"迂回路線の有無が未入力です。",{"$f":"IF(入力!E26=\"\",\"×\",\"○\")","v":"×"},"e26",null,"○","e26"]
["影響が大きいか","通行止",{"$f":"IF(ISERROR(SEARCH(B18,$B$17,1))=FALSE,\"○\",\"×\")","v":"×"},{"$f":"IF(AND(C18=\"○\",入力!AO22=\"\"),\"×\",\"○\")","v":"○"},null,"通行制限開始日は工事開始日以後でなければなりません。",{"$f":"D33","v":"○"},"h22",null,"○","h22","l22","p22","h24","l24","p24"]
[null,null,null,null,null,"通行制限終了日は工事終了日以前でなければなりません。",{"$f":"D34","v":"○"},"y22",null,"○","y22","ac22","ag22","y24","ac24","ag24"]
["通行制限の開始日",{"$f":"\"H\"&入力!H22&\"/\"&入力!L22&\"/\"&入力!P22","v":"H//"},{"$f":"IF(ISERROR(B20+0)=FALSE,B20+0,\"×\")","v":"×"},null,null,"バス路線が「有」なのにバス会社名が未入力です。",{"$f":"C36","v":"○"},"s25",null,"○","s25","e25"]
["片側通行止",{"$f":"C2","v":{"$error":"#VALUE!"}},{"$f":"IF($C$20>=B21,\"○\",\"×\")","v":{"$error":"#VALUE!"}},null,null,"迂回路線が「有」なのに迂回路線名が未入力です。",{"$f":"C38","v":"○"},"s26",null,"○","s26","e26"]
["車両通行止等",{"$f":"D2","v":{"$error":"#VALUE!"}},{"$f":"IF($C$20>=B22,\"○\",\"×\")","v":{"$error":"#VALUE!"}},null,null,"通行制限理由が工事の場合の工事施行者：住所が未記入です。",{"$f":"IF(AND(C15=\"○\",入力!H27=\"\"),\"×\",\"○\")","v":"○"},"h27",null,"○","h27"]
["通行制限の終了日",{"$f":"\"H\"&入力!Y22&\"/\"&入力!AC22&\"/\"&入力!AG22","v":"H//"},{"$f":"IF(ISERROR(B23+0)=FALSE,B23+0,\"×\")","v":"×"},null,null,"通行制限理由が工事の場合の工事施行者：氏名が未記入です。",{"$f":"IF(AND(C15=\"○\",入力!H28=\"\"),\"×\",\"○\")","v":"○"},"h28",null,"○","h28"]
[null,null,null,null,null,"通行制限理由が工事の場合の現場責任者：住所が未記入です。",{"$f":"IF(AND(C15=\"○\",入力!H29=\"\"),\"×\",\"○\")","v":"○"},"h29",null,"○","h29"]
["通行制限時間",{"$f":"入力!E23","v":0},null,null,null,"通行制限理由が工事の場合の現場責任者：氏名が未記入です。",{"$f":"IF(AND(C15=\"○\",入力!H30=\"\"),\"×\",\"○\")","v":"○"},"h30",null,"○","h30"]
["終日か時間制限","終日",{"$f":"IF(ISERROR(SEARCH(B26,$B$25,1))=FALSE,\"○\",\"×\")","v":"×"},null,null,"通行制限理由が工事の場合の現場責任者：電話番号が未記入です。",{"$f":"IF(AND(C15=\"○\",入力!AK30=\"\"),\"×\",\"○\")","v":"○"},"ak30",null,"○","ak30"]
[null,"時間制限",{"$f":"IF(ISERROR(SEARCH(B27,$B$25,1))=FALSE,\"○\",\"×\")","v":"×"},null,null,"時間制限の場合の開始時刻が未記入です。",{"$f":"IF($C$27=\"○\",IF(C29=\"×\",\"×\",\"○\"),\"○\")","v":"○"},"n23",null,"○","n23","q23"]
[null,null,"時刻データか？","始まりと終わりは良いか",null,"時間制限の場合の終了時刻が未記入です。",{"$f":"IF($C$27=\"○\",IF(C30=\"×\",\"×\",\"○\"),\"○\")","v":"○"},"u23",null,"○","u23","x23"]
["開始時刻",{"$f":"IF(入力!N23=\"\",\"×\",入力!N23)&\"：\"&IF(入力!Q23=\"\",\"×\",入力!Q23)","v":"×：×"},{"$f":"IF(ISERROR(B29+0)=FALSE,B29+0,\"×\")","v":"×"},{"$f":"IF(C29>=E29,\"○\",\"×\")","v":"○"},"08:30:00","片側交互通行の場合は、通行制限開始日の１週間前までに申請してください。",{"$f":"IF(C18=\"×\",IF(C21=\"○\",\"○\",\"×\"),\"○\")","v":{"$error":"#VALUE!"}},"am6",null,null,"am6","aq6","au6","h22","l22","p22"]
["終了時刻",{"$f":"IF(入力!U23=\"\",\"×\",入力!U23)&\"：\"&IF(入力!X23=\"\",\"×\",入力!X23)","v":"×：×"},{"$f":"IF(ISERROR(B30+0)=FALSE,B30+0,\"×\")","v":"×"},{"$f":"IF(C30<=E30,\"○\",\"×\")","v":"×"},"17:00:00","車両通行止・全面通行止・大型車通行止の場合は、通行制限開始日の２週間前までに申請してください。",{"$f":"IF(C18=\"○\",IF(C22=\"○\",\"○\",\"×\"),\"○\")","v":"○"},"am6",null,null,"am6","aq6","au6","h22","l22","p22"]
[null,null,null,null,null,"車両通行止・全面通行止・大型車通行止の場合の、実際に通行止となる日数が未入力です。",{"$f":"D18","v":"○"},"ao22",null,null,"ao22"]
[null,null,null,"通行制限が工事期間内か",null,"時間制限の場合の開始時刻は8：30以降としてください。",{"$f":"IF(C27=\"○\",IF(D29=\"○\",\"○\",\"×\"),\"○\")","v":"○"},"n23",null,null,"n23","q23"]
["工事開始日",{"$f":"\"H\"&入力!H24&\"/\"&入力!L24&\"/\"&入力!P24","v":"H//"},{"$f":"IF(ISERROR(B33+0)=FALSE,B33+0,\"×\")","v":"×"},{"$f":"IF($C$20>=C33,\"○\",\"×\")","v":"○"},null,"時間制限の場合の終了時刻は17：00以前としてください。",{"$f":"IF(C27=\"○\",IF(D30=\"○\",\"○\",\"×\"),\"○\")","v":"○"},"u23",null,null,"u23","x23"]
["工事終了日",{"$f":"\"H\"&入力!Y24&\"/\"&入力!AC24&\"/\"&入力!AG24","v":"H//"},{"$f":"IF(ISERROR(B34+0)=FALSE,B34+0,\"×\")","v":"×"},{"$f":"IF($C$23<=C34,\"○\",\"×\")","v":"○"}]
[]
["バス路線の有無","路線名が空白",{"$f":"IF(AND(入力!E25=\"有\",入力!S25=\"\"),\"×\",\"○\")","v":"○"}]
[]
["迂回路の有無","迂回路線が空白",{"$f":"IF(AND(入力!E26=\"有\",入力!S26=\"\"),\"×\",\"○\")","v":"○"}]
[]
[]
["印刷する用紙"]
["全て",true]
["建設事務所長あて",false]
["建設部長あて",false]
["警察署長あて",false]
["消防長あて",false]
["市町村長あて",false]
["申請者あて",false]

{"sheet":"選択リスト","index":5,"n_rows":29,"n_cols":11,"rows_kept":29,"cut":false,"hidden":true,"merged":[]}
["路線名",null,"市町村名",null,"種別",null,"時間",null,"有無",null,"工事の有無"]
["国道147号",null,"大町市",null,"片側交互通行",null,"終日",null,"有",null,"工事有"]
["国道148号",null,"池田町",null,"車両通行止",null,"時間制限",null,"無",null,"工事無"]
["国道406号",null,"松川村",null,"全面通行止"]
["県道（主）長野大町線",null,"白馬村",null,"大型自動車通行止"]
["県道（主）白馬美麻線",null,"小谷村"]
["県道（主）扇沢大町線"]
["県道（主）大町明科線"]
["県道（主）大町麻績インター千曲線"]
["県道（一）川尻小谷糸魚川線"]
["県道（一）宇留賀池田線"]
["県道（一）上生坂信濃松川(停)線"]
["県道（一）有明大町線"]
["県道（一）白馬岳線"]
["県道（一）青具簗場(停)線"]
["県道（一）白馬岳大町線"]
["県道（一）槍ヶ岳線"]
["県道（一）原木戸安曇追分(停)線"]
["県道（一）奉納中土(停)線"]
["県道（一）大平大峰沓掛線"]
["県道（一）小島信濃木崎(停)線"]
["県道（一）川口大町線"]
["県道（一）千国北城線"]
["県道（一）矢地赤芝線"]
["県道（一）舟場矢下線"]
["県道（一）信濃大町(停)線"]
["県道（一）あづみの公園線"]
["県道（一）美麻八坂線"]
["県道（一）聖高原瀬口線"]

{"sheet":"通行制限願","index":6,"n_rows":37,"n_cols":61,"rows_kept":37,"cut":false,"hidden":true,"merged":[[1,0,1,60],[3,46,3,48],[3,49,3,50],[3,51,3,52],[3,53,3,54],[3,55,3,56],[3,57,3,58],[3,59,3,60],[11,26,11,28],[11,30,11,49],[4,3,5,27],[15,0,15,13],[13,0,13,60],[14,0,14,60],[6,26,6,28],[6,32,6,38],[7,30,8,60],[9,26,9,28],[9,30,9,60],[10,30,10,60],[16,1,16,13],[16,15,16,60],[18,1,18,13],[19,1,19,13],[19,15,19,17],[19,18,19,19],[19,45,19,46],[19,28,19,29],[19,30,19,31],[17,1,17,13],[17,15,17,60],[20,15,20,21],[20,22,20,23],[20,24,20,25],[20,27,20,28],[20,29,20,30],[19,54,19,60],[19,32,19,34],[19,35,19,36],[19,37,19,38],[19,39,19,40],[19,41,19,42],[19,43,19,44],[19,47,19,50],[19,51,19,53],[19,20,19,21],[19,22,19,23],[24,0,25,0],[24,1,25,13],[24,14,24,17],[24,18,24,60],[25,14,25,17],[25,18,25,60],[20,38,20,60],[21,43,21,44],[21,45,21,46],[21,37,21,38],[21,39,21,40],[21,41,21,42],[20,36,20,37],[21,24,21,25],[21,26,21,27],[21,28,21,29],[22,15,22,17],[22,19,22,27],[22,29,22,60],[21,20,21,21],[21,30,21,31],[21,32,21,34],[21,35,21,36],[20,31,20,32],[26,0,27,0],[26,1,26,13],[26,14,26,17],[26,18,26,60],[27,1,27,13],[27,14,27,17],[27,18,27,42],[27,43,27,46],[27,47,27,59],[34,1,34,60],[35,1,35,60],[36,1,36,60],[15,15,15,60],[18,15,18,60],[28,1,28,60],[29,1,29,60],[30,1,30,60],[31,1,31,60],[33,1,33,60],[32,1,32,60],[21,1,21,13],[21,15,21,17],[21,18,21,19],[22,1,22,13],[21,22,21,23],[23,1,23,13],[23,15,23,17],[23,19,23,27],[23,29,23,60],[20,34,20,35],[19,24,19,25],[19,26,19,27],[20,1,20,13]]}
[]
["道　路　通　行　制　限　願"]
[]
[null,null,null,null,null,null,null,null,null,null,null,null,null,null,null,null,null,null,null,null,null,null,null,null,null,null,null,null,null,null,null,null,null,null,null,null,null,null,null,null,null,null,null,null,null,null,"令和",null,null,{"$f":"入力!AM6","v":0},null,"年",null,{"$f":"入力!AQ6","v":0},null,"月",null,{"$f":"入力!AU6","v":0},null,"日"]
[null,null,null,"長野県大町建設事務所長　殿"]
[]
[null,null,null,null,null,null,null,null,null,null,null,null,null,null,null,null,null,null,null,null,null,null,null,null,null,null,"住所",null,null,null,"〒",null,{"$f":"入力!V9","v":0}]
[null,null,null,null,null,null,null,null,null,null,null,null,null,null,null,null,null,null,null,null,null,null,null,null,null,null,null,null,null,null,{"$f":"入力!T10","v":0}]
[]
[null,null,null,null,null,null,null,null,null,null,null,null,null,null,null,null,null,null,null,null,null,null,null,null,null,null,"氏名",null,null,null,{"$f":"入力!T12","v":0}]
[null,null,null,null,null,null,null,null,null,null,null,null,null,null,null,null,null,null,null,null,null,null,null,null,null,null,null,null,null,null,{"$f":"入力!T13","v":0}]
[null,null,null,null,null,null,null,null,null,null,null,null,null,null,null,null,null,null,null,null,null,null,null,null,null,null,"電話",null,null,null,{"$f":"入力!T14","v":0}]
[]
["　下記のとおり通行制限をお願いします。"]
["記"]
["路　　線　　名",null,null,null,null,null,null,null,null,null,null,null,null,null,null,{"$f":"入力!E18","v":0}]
[1,"通行制限箇所",null,null,null,null,null,null,null,null,null,null,null,null,null,{"$f":"入力!E19","v":0}]
[2,"通行制限理由",null,null,null,null,null,null,null,null,null,null,null,null,null,{"$f":"入力!E20","v":0}]
[3,"種別",null,null,null,null,null,null,null,null,null,null,null,null,"　",{"$f":"入力!E21&\"  \"&入力!R21&\"  \"&入力!AE21","v":"    "}]
[4,"通行制限期間",null,null,null,null,null,null,null,null,null,null,null,null,null,"令和",null,null,{"$f":"入力!H22","v":0},null,"年",null,{"$f":"入力!L22","v":0},null,"月",null,{"$f":"入力!P22","v":0},null,"日",null,"～",null,"令和",null,null,{"$f":"入力!Y22","v":0},null,"年",null,{"$f":"入力!AC22","v":0},null,"月",null,{"$f":"入力!AG22","v":0},null,"日",null,"（うち",null,null,null,{"$f":"入力!AO22","v":0},null,null,"日間程度）"]
[5,"　〃　　 時間",null,null,null,null,null,null,null,null,null,null,null,null,null,{"$f":"入力!E23","v":0},null,null,null,null,null,null,"（",null,{"$f":"入力!N23","v":0},null,"：",{"$f":"入力!Q23","v":0},null,"～",null,{"$f":"入力!U23","v":0},null,"：",{"$f":"入力!X23","v":0},null,"）",null,{"$f":"入力!AB23","v":"（うち　日間程度）"}]
[6,"工事期間",null,null,null,null,null,null,null,null,null,null,null,null,null,"令和",null,null,{"$f":"入力!H24","v":0},null,"年",null,{"$f":"入力!L24","v":0},null,"月",null,{"$f":"入力!P24","v":0},null,"日",null,"～",null,"令和",null,null,{"$f":"入力!Y24","v":0},null,"年",null,{"$f":"入力!AC24","v":0},null,"月",null,{"$f":"入力!AG24","v":0},null,"日"]
[7,"バス路線の\n有無",null,null,null,null,null,null,null,null,null,null,null,null,null,{"$f":"入力!E25","v":0},null,null,null,"(バス会社名)",null,null,null,null,null,null,null,null,null,{"$f":"入力!S25","v":0}]
[8,"迂回路線の\n有無",null,null,null,null,null,null,null,null,null,null,null,null,null,{"$f":"入力!E26","v":0},null,null,null,"(迂回路線名)",null,null,null,null,null,null,null,null,null,{"$f":"入力!S26","v":0}]
[9,"工事施工者",null,null,null,null,null,null,null,null,null,null,null,null,"住所",null,null,null,{"$f":"入力!H27","v":0}]
[null,null,null,null,null,null,null,null,null,null,null,null,null,null,"氏名",null,null,null,{"$f":"入力!H28","v":0}]
[10,"工事施工現場",null,null,null,null,null,null,null,null,null,null,null,null,"住所",null,null,null,{"$f":"入力!H29","v":0}]
[null,"責任者",null,null,null,null,null,null,null,null,null,null,null,null,"氏名",null,null,null,{"$f":"入力!H30","v":0},null,null,null,null,null,null,null,null,null,null,null,null,null,null,null,null,null,null,null,null,null,null,null,null,"電話(",null,null,null,{"$f":"入力!AK30","v":0},null,null,null,null,null,null,null,null,null,null,null,null,")"]
[null,"（注）　１．　添付図書は、位置図５万分の１、平面図又は附近見取図へ工事標識、バリケード等の設置を記入したものを"]
[null,"　　　　　　　通行制限願い以下のそれぞれの用紙に添付して下さい。"]
[null,"　　　　　　　なお、全面通行止等で影響が大きい場合は、部数の追加をお願いする場合があります。"]
[null,"　　　　２．　通行制限理由欄には、国補、県単事業については、土木工事種目別により記入して下さい。"]
[null,"　　　　　　　　　　　　　（例　○○年度第１種特殊改良工事、○○年度交通安全施設整備工事・・・）　　　　　　　　　　　　　"]
[null,"　　　　　　　また、舗装工事・下水道工事・電柱建立等の具体的な工事内容も併せて記入してください。"]
[null,"　　　　３．　９の工事施工者欄は個人の場合はその住所、氏名、会社の場合は、会社名と会社の住所、氏名欄は代表者"]
[null,"　　　　　　　名を記入して下さい。"]
[null,"　　　　４．　片側通行止めの場合は１週間前までに、その他通行止めの場合は２週間前までに提出してください。"]

{"sheet":"建設部長","index":7,"n_rows":36,"n_cols":61,"rows_kept":36,"cut":false,"hidden":true,"merged":[[5,3,5,17],[17,0,17,60],[18,0,18,13],[18,15,18,60],[19,15,19,60],[22,28,22,29],[22,30,22,31],[22,1,22,13],[19,1,19,13],[6,3,6,60],[22,15,22,17],[22,18,22,19],[24,32,24,34],[24,39,24,40],[22,45,22,46],[24,41,24,42],[22,37,22,38],[22,39,22,40],[24,37,24,38],[23,36,23,37],[23,38,23,60],[23,31,23,32],[22,54,22,60],[22,41,22,42],[22,51,22,53],[23,34,23,35],[22,35,22,36],[22,47,22,50],[23,1,23,13],[23,15,23,21],[23,22,23,23],[23,24,23,25],[20,1,20,13],[20,15,20,60],[21,1,21,13],[21,15,21,60],[23,27,23,28],[23,29,23,30],[22,20,22,21],[22,43,22,44],[22,32,22,34],[22,22,22,23],[22,24,22,25],[22,26,22,27],[25,1,25,13],[24,28,24,29],[24,35,24,36],[25,15,25,17],[25,19,25,27],[25,29,25,60],[24,43,24,44],[24,45,24,46],[24,20,24,21],[24,22,24,23],[24,26,24,27],[24,30,24,31],[24,1,24,13],[24,15,24,17],[24,18,24,19],[24,24,24,25],[26,29,26,60],[27,0,28,0],[27,1,28,13],[27,14,27,17],[27,18,27,60],[28,14,28,17],[28,18,28,60],[26,1,26,13],[26,15,26,17],[26,19,26,27],[33,1,33,60],[34,1,34,60],[12,0,12,60],[14,1,14,60],[15,1,15,60],[31,1,31,60],[32,1,32,60],[29,0,30,0],[29,1,29,13],[29,14,29,17],[29,18,29,60],[30,1,30,13],[30,14,30,17],[30,18,30,42],[30,43,30,46],[30,47,30,59]]}
[]
[null,null,null,null,null,null,null,null,null,null,null,null,null,null,null,null,null,null,null,null,null,null,null,null,null,null,null,null,null,null,null,null,null,null,null,null,null,null,null,null,null,null,null,null,null,null,null,null,null,null,null,null,null,null,null,null,null,null,null,"大建第　　　－　　　号"]
[null,null,null,null,null,null,null,null,null,null,null,null,null,null,null,null,null,null,null,null,null,null,null,null,null,null,null,null,null,null,null,null,null,null,null,null,null,null,null,null,null,null,null,null,null,null,null,null,null,null,null,null,null,null,null,null,null,null,null,"令和　　　年　　　月　　　日"]
[]
[]
[null,null,null,"（道路管理課　経由）"]
[null,null,null,"建　設　部　長　様"]
[]
[]
[null,null,null,null,null,null,null,null,null,null,null,null,null,null,null,null,null,null,null,null,null,null,null,null,null,null,null,null,null,null,null,null,null,null,null,null,null,null,null,null,null,null,null,null,null,null,null,null,null,null,null,null,"大町建設事務所長"]
[]
[]
["通　行　禁　止　（制　限）　報　告"]
[]
[null,"下記のとおり所轄警察署と協議のうえ通行禁止（制限）をしますので報告します。"]
[null,"なお、通行禁止（制限）箇所及び迂回路は別紙図面のとおりです。"]
[]
["記"]
["路　　線　　名",null,null,null,null,null,null,null,null,null,null,null,null,null,null,{"$f":"入力!E18","v":0}]
[1,"通行制限箇所",null,null,null,null,null,null,null,null,null,null,null,null,null,{"$f":"入力!E19","v":0}]
[2,"通行制限理由",null,null,null,null,null,null,null,null,null,null,null,null,null,{"$f":"入力!E20","v":0}]
[3,"種別",null,null,null,null,null,null,null,null,null,null,null,null,"　",{"$f":"入力!E21&\"  \"&入力!R21&\"  \"&入力!AE21","v":"    "}]
[4,"通行制限期間",null,null,null,null,null,null,null,null,null,null,null,null,null,"令和",null,null,{"$f":"入力!H22","v":0},null,"年",null,{"$f":"入力!L22","v":0},null,"月",null,{"$f":"入力!P22","v":0},null,"日",null,"～",null,"令和",null,null,{"$f":"入力!Y22","v":0},null,"年",null,{"$f":"入力!AC22","v":0},null,"月",null,{"$f":"入力!AG22","v":0},null,"日",null,"（うち",null,null,null,{"$f":"入力!AO22","v":0},null,null,"日間程度）"]
[5,"　〃　　 時間",null,null,null,null,null,null,null,null,null,null,null,null,null,{"$f":"入力!E23","v":0},null,null,null,null,null,null,"（",null,{"$f":"入力!N23","v":0},null,"：",{"$f":"入力!Q23","v":0},null,"～",null,{"$f":"入力!U23","v":0},null,"：",{"$f":"入力!X23","v":0},null,"）",null,{"$f":"入力!AB23","v":"（うち　日間程度）"}]
[6,"工事期間",null,null,null,null,null,null,null,null,null,null,null,null,null,"令和",null,null,{"$f":"入力!H24","v":0},null,"年",null,{"$f":"入力!L24","v":0},null,"月",null,{"$f":"入力!P24","v":0},null,"日",null,"～",null,"令和",null,null,{"$f":"入力!Y24","v":0},null,"年",null,{"$f":"入力!AC24","v":0},null,"月",null,{"$f":"入力!AG24","v":0},null,"日"]
[7,"バス路線の\n有無",null,null,null,null,null,null,null,null,null,null,null,null,null,{"$f":"入力!E25","v":0},null,null,null,"(バス会社名)",null,null,null,null,null,null,null,null,null,{"$f":"入力!S25","v":0}]
[8,"迂回路線の\n有無",null,null,null,null,null,null,null,null,null,null,null,null,null,{"$f":"入力!E26","v":0},null,null,null,"(迂回路線名)",null,null,null,null,null,null,null,null,null,{"$f":"入力!S26","v":0}]
[9,"工事施工者",null,null,null,null,null,null,null,null,null,null,null,null,"住所",null,null,null,{"$f":"入力!H27","v":0}]
[null,null,null,null,null,null,null,null,null,null,null,null,null,null,"氏名",null,null,null,{"$f":"入力!H28","v":0}]
[10,"工事施工現場",null,null,null,null,null,null,null,null,null,null,null,null,"住所",null,null,null,{"$f":"入力!H29","v":0}]
[null,"責任者",null,null,null,null,null,null,null,null,null,null,null,null,"氏名",null,null,null,{"$f":"入力!H30","v":0},null,null,null,null,null,null,null,null,null,null,null,null,null,null,null,null,null,null,null,null,null,null,null,null,"電話(",null,null,null,{"$f":"入力!AK30","v":0},null,null,null,null,null,null,null,null,null,null,null,null,")"]
[null,"（注）　添付図書を添付すること。"]
[]
[]
[]
[null,"（建設部）"]

{"sheet":"警察署長","index":8,"n_rows":36,"n_cols":61,"rows_kept":36,"cut":false,"hidden":true,"merged":[[21,1,21,13],[22,15,22,17],[22,45,22,46],[22,18,22,19],[22,20,22,21],[22,22,22,23],[22,24,22,25],[22,1,22,13],[22,26,22,27],[22,35,22,36],[20,1,20,13],[20,15,20,60],[5,3,6,60],[19,1,19,13],[19,15,19,60],[12,0,12,60],[14,1,14,60],[15,1,15,60],[17,0,17,60],[18,0,18,13],[18,15,18,60],[23,1,23,13],[23,15,23,21],[23,22,23,23],[23,24,23,25],[23,36,23,37],[23,27,23,28],[23,29,23,30],[23,34,23,35],[23,31,23,32],[22,30,22,31],[21,15,21,60],[22,28,22,29],[22,41,22,42],[22,43,22,44],[22,32,22,34],[22,51,22,53],[22,47,22,50],[24,41,24,42],[22,37,22,38],[22,39,22,40],[24,37,24,38],[23,38,23,60],[24,43,24,44],[24,45,24,46],[22,54,22,60],[25,1,25,13],[25,15,25,17],[25,19,25,27],[25,29,25,60],[24,24,24,25],[24,35,24,36],[24,1,24,13],[24,28,24,29],[24,15,24,17],[24,18,24,19],[24,32,24,34],[24,20,24,21],[24,22,24,23],[24,26,24,27],[24,30,24,31],[24,39,24,40],[26,1,26,13],[26,15,26,17],[26,19,26,27],[26,29,26,60],[29,0,30,0],[29,1,29,13],[29,14,29,17],[29,18,29,60],[30,1,30,13],[30,14,30,17],[27,0,28,0],[27,1,28,13],[27,14,27,17],[27,18,27,60],[28,14,28,17],[28,18,28,60],[34,1,34,60],[30,18,30,42],[30,43,30,46],[30,47,30,59],[31,1,31,60],[32,1,32,60],[33,1,33,60]]}
[]
[null,null,null,null,null,null,null,null,null,null,null,null,null,null,null,null,null,null,null,null,null,null,null,null,null,null,null,null,null,null,null,null,null,null,null,null,null,null,null,null,null,null,null,null,null,null,null,null,null,null,null,null,null,null,null,null,null,null,null,"大建第　　　－　　　号"]
[null,null,null,null,null,null,null,null,null,null,null,null,null,null,null,null,null,null,null,null,null,null,null,null,null,null,null,null,null,null,null,null,null,null,null,null,null,null,null,null,null,null,null,null,null,null,null,null,null,null,null,null,null,null,null,null,null,null,null,"令和　　　年　　　月　　　日"]
[]
[]
[null,null,null,"大 町 警 察 署 長　様"]
[]
[]
[]
[null,null,null,null,null,null,null,null,null,null,null,null,null,null,null,null,null,null,null,null,null,null,null,null,null,null,null,null,null,null,null,null,null,null,null,null,null,null,null,null,null,null,null,null,null,null,null,null,null,null,null,null,"大町建設事務所長"]
[]
[]
["通行禁止（制限）について（通知）"]
[]
[null,"このことについて、下記のとおり通行禁止（制限）をいたしますからご承知ください。"]
[]
[]
["記"]
["路　　線　　名",null,null,null,null,null,null,null,null,null,null,null,null,null,null,{"$f":"入力!E18","v":0}]
[1,"通行制限箇所",null,null,null,null,null,null,null,null,null,null,null,null,null,{"$f":"入力!E19","v":0}]
[2,"通行制限理由",null,null,null,null,null,null,null,null,null,null,null,null,null,{"$f":"入力!E20","v":0}]
[3,"種別",null,null,null,null,null,null,null,null,null,null,null,null,"　",{"$f":"入力!E21&\"  \"&入力!R21&\"  \"&入力!AE21","v":"    "}]
[4,"通行制限期間",null,null,null,null,null,null,null,null,null,null,null,null,null,"令和",null,null,{"$f":"入力!H22","v":0},null,"年",null,{"$f":"入力!L22","v":0},null,"月",null,{"$f":"入力!P22","v":0},null,"日",null,"～",null,"令和",null,null,{"$f":"入力!Y22","v":0},null,"年",null,{"$f":"入力!AC22","v":0},null,"月",null,{"$f":"入力!AG22","v":0},null,"日",null,"（うち",null,null,null,{"$f":"入力!AO22","v":0},null,null,"日間程度）"]
[5,"　〃　　 時間",null,null,null,null,null,null,null,null,null,null,null,null,null,{"$f":"入力!E23","v":0},null,null,null,null,null,null,"（",null,{"$f":"入力!N23","v":0},null,"：",{"$f":"入力!Q23","v":0},null,"～",null,{"$f":"入力!U23","v":0},null,"：",{"$f":"入力!X23","v":0},null,"）",null,{"$f":"入力!AB23","v":"（うち　日間程度）"}]
[6,"工事期間",null,null,null,null,null,null,null,null,null,null,null,null,null,"令和",null,null,{"$f":"入力!H24","v":0},null,"年",null,{"$f":"入力!L24","v":0},null,"月",null,{"$f":"入力!P24","v":0},null,"日",null,"～",null,"令和",null,null,{"$f":"入力!Y24","v":0},null,"年",null,{"$f":"入力!AC24","v":0},null,"月",null,{"$f":"入力!AG24","v":0},null,"日"]
[7,"バス路線の\n有無",null,null,null,null,null,null,null,null,null,null,null,null,null,{"$f":"入力!E25","v":0},null,null,null,"(バス会社名)",null,null,null,null,null,null,null,null,null,{"$f":"入力!S25","v":0}]
[8,"迂回路線の\n有無",null,null,null,null,null,null,null,null,null,null,null,null,null,{"$f":"入力!E26","v":0},null,null,null,"(迂回路線名)",null,null,null,null,null,null,null,null,null,{"$f":"入力!S26","v":0}]
[9,"工事施工者",null,null,null,null,null,null,null,null,null,null,null,null,"住所",null,null,null,{"$f":"入力!H27","v":0}]
[null,null,null,null,null,null,null,null,null,null,null,null,null,null,"氏名",null,null,null,{"$f":"入力!H28","v":0}]
[10,"工事施工現場",null,null,null,null,null,null,null,null,null,null,null,null,"住所",null,null,null,{"$f":"入力!H29","v":0}]
[null,"責任者",null,null,null,null,null,null,null,null,null,null,null,null,"氏名",null,null,null,{"$f":"入力!H30","v":0},null,null,null,null,null,null,null,null,null,null,null,null,null,null,null,null,null,null,null,null,null,null,null,null,"電話(",null,null,null,{"$f":"入力!AK30","v":0},null,null,null,null,null,null,null,null,null,null,null,null,")"]
[null,"（注）　添付図書を添付すること。"]
[]
[]
[]
[null,"（警察署）"]

{"sheet":"消防長","index":9,"n_rows":36,"n_cols":61,"rows_kept":36,"cut":false,"hidden":true,"merged":[[21,1,21,13],[22,15,22,17],[22,45,22,46],[22,18,22,19],[22,20,22,21],[22,22,22,23],[22,24,22,25],[22,1,22,13],[22,26,22,27],[22,35,22,36],[20,1,20,13],[20,15,20,60],[5,3,6,60],[19,1,19,13],[19,15,19,60],[12,0,12,60],[14,1,14,60],[15,1,15,60],[17,0,17,60],[18,0,18,13],[18,15,18,60],[23,1,23,13],[23,15,23,21],[23,22,23,23],[23,24,23,25],[23,36,23,37],[23,27,23,28],[23,29,23,30],[23,34,23,35],[23,31,23,32],[22,30,22,31],[21,15,21,60],[22,28,22,29],[22,41,22,42],[22,43,22,44],[22,32,22,34],[22,51,22,53],[22,47,22,50],[24,41,24,42],[22,37,22,38],[22,39,22,40],[24,37,24,38],[23,38,23,60],[24,43,24,44],[24,45,24,46],[22,54,22,60],[25,1,25,13],[25,15,25,17],[25,19,25,27],[25,29,25,60],[24,24,24,25],[24,35,24,36],[24,1,24,13],[24,28,24,29],[24,15,24,17],[24,18,24,19],[24,32,24,34],[24,20,24,21],[24,22,24,23],[24,26,24,27],[24,30,24,31],[24,39,24,40],[26,1,26,13],[26,15,26,17],[26,19,26,27],[26,29,26,60],[29,0,30,0],[29,1,29,13],[29,14,29,17],[29,18,29,60],[30,1,30,13],[30,14,30,17],[27,0,28,0],[27,1,28,13],[27,14,27,17],[27,18,27,60],[28,14,28,17],[28,18,28,60],[34,1,34,60],[30,18,30,42],[30,43,30,46],[30,47,30,59],[31,1,31,60],[32,1,32,60],[33,1,33,60]]}
[]
[null,null,null,null,null,null,null,null,null,null,null,null,null,null,null,null,null,null,null,null,null,null,null,null,null,null,null,null,null,null,null,null,null,null,null,null,null,null,null,null,null,null,null,null,null,null,null,null,null,null,null,null,null,null,null,null,null,null,null,"大建第　　　－　　　号"]
[null,null,null,null,null,null,null,null,null,null,null,null,null,null,null,null,null,null,null,null,null,null,null,null,null,null,null,null,null,null,null,null,null,null,null,null,null,null,null,null,null,null,null,null,null,null,null,null,null,null,null,null,null,null,null,null,null,null,null,"令和　　　年　　　月　　　日"]
[]
[]
[null,null,null,"北アルプス広域消防本部 消防長　様"]
[]
[]
[]
[null,null,null,null,null,null,null,null,null,null,null,null,null,null,null,null,null,null,null,null,null,null,null,null,null,null,null,null,null,null,null,null,null,null,null,null,null,null,null,null,null,null,null,null,null,null,null,null,null,null,null,null,"長野県大町建設事務所長"]
[]
[]
["通行禁止（制限）について（通知）"]
[]
[null,"このことについて、下記のとおり通行禁止（制限）をいたしますからご承知ください。"]
[]
[]
["記"]
["路　　線　　名",null,null,null,null,null,null,null,null,null,null,null,null,null,null,{"$f":"入力!E18","v":0}]
[1,"通行制限箇所",null,null,null,null,null,null,null,null,null,null,null,null,null,{"$f":"入力!E19","v":0}]
[2,"通行制限理由",null,null,null,null,null,null,null,null,null,null,null,null,null,{"$f":"入力!E20","v":0}]
[3,"種別",null,null,null,null,null,null,null,null,null,null,null,null,"　",{"$f":"入力!E21&\"  \"&入力!R21&\"  \"&入力!AE21","v":"    "}]
[4,"通行制限期間",null,null,null,null,null,null,null,null,null,null,null,null,null,"令和",null,null,{"$f":"入力!H22","v":0},null,"年",null,{"$f":"入力!L22","v":0},null,"月",null,{"$f":"入力!P22","v":0},null,"日",null,"～",null,"令和",null,null,{"$f":"入力!Y22","v":0},null,"年",null,{"$f":"入力!AC22","v":0},null,"月",null,{"$f":"入力!AG22","v":0},null,"日",null,"（うち",null,null,null,{"$f":"入力!AO22","v":0},null,null,"日間程度）"]
[5,"　〃　　 時間",null,null,null,null,null,null,null,null,null,null,null,null,null,{"$f":"入力!E23","v":0},null,null,null,null,null,null,"（",null,{"$f":"入力!N23","v":0},null,"：",{"$f":"入力!Q23","v":0},null,"～",null,{"$f":"入力!U23","v":0},null,"：",{"$f":"入力!X23","v":0},null,"）",null,{"$f":"入力!AB23","v":"（うち　日間程度）"}]
[6,"工事期間",null,null,null,null,null,null,null,null,null,null,null,null,null,"令和",null,null,{"$f":"入力!H24","v":0},null,"年",null,{"$f":"入力!L24","v":0},null,"月",null,{"$f":"入力!P24","v":0},null,"日",null,"～",null,"令和",null,null,{"$f":"入力!Y24","v":0},null,"年",null,{"$f":"入力!AC24","v":0},null,"月",null,{"$f":"入力!AG24","v":0},null,"日"]
[7,"バス路線の\n有無",null,null,null,null,null,null,null,null,null,null,null,null,null,{"$f":"入力!E25","v":0},null,null,null,"(バス会社名)",null,null,null,null,null,null,null,null,null,{"$f":"入力!S25","v":0}]
[8,"迂回路線の\n有無",null,null,null,null,null,null,null,null,null,null,null,null,null,{"$f":"入力!E26","v":0},null,null,null,"(迂回路線名)",null,null,null,null,null,null,null,null,null,{"$f":"入力!S26","v":0}]
[9,"工事施工者",null,null,null,null,null,null,null,null,null,null,null,null,"住所",null,null,null,{"$f":"入力!H27","v":0}]
[null,null,null,null,null,null,null,null,null,null,null,null,null,null,"氏名",null,null,null,{"$f":"入力!H28","v":0}]
[10,"工事施工現場",null,null,null,null,null,null,null,null,null,null,null,null,"住所",null,null,null,{"$f":"入力!H29","v":0}]
[null,"責任者",null,null,null,null,null,null,null,null,null,null,null,null,"氏名",null,null,null,{"$f":"入力!H30","v":0},null,null,null,null,null,null,null,null,null,null,null,null,null,null,null,null,null,null,null,null,null,null,null,null,"電話(",null,null,null,{"$f":"入力!AK30","v":0},null,null,null,null,null,null,null,null,null,null,null,null,")"]
[null,"（注）　添付図書を添付すること。"]
[]
[]
[]
[null,"（消防）"]

{"sheet":"市町村長","index":10,"n_rows":36,"n_cols":61,"rows_kept":36,"cut":false,"hidden":true,"merged":[[21,1,21,13],[22,15,22,17],[22,45,22,46],[22,18,22,19],[22,20,22,21],[22,22,22,23],[22,24,22,25],[22,1,22,13],[22,26,22,27],[22,35,22,36],[20,1,20,13],[20,15,20,60],[5,3,6,60],[19,1,19,13],[19,15,19,60],[12,0,12,60],[14,1,14,60],[15,1,15,60],[17,0,17,60],[18,0,18,13],[18,15,18,60],[23,1,23,13],[23,15,23,21],[23,22,23,23],[23,24,23,25],[23,36,23,37],[23,27,23,28],[23,29,23,30],[23,34,23,35],[23,31,23,32],[22,30,22,31],[21,15,21,60],[22,28,22,29],[22,41,22,42],[22,43,22,44],[22,32,22,34],[22,51,22,53],[22,47,22,50],[24,41,24,42],[22,37,22,38],[22,39,22,40],[24,37,24,38],[23,38,23,60],[24,43,24,44],[24,45,24,46],[22,54,22,60],[25,1,25,13],[25,15,25,17],[25,19,25,27],[25,29,25,60],[24,24,24,25],[24,35,24,36],[24,1,24,13],[24,28,24,29],[24,15,24,17],[24,18,24,19],[24,32,24,34],[24,20,24,21],[24,22,24,23],[24,26,24,27],[24,30,24,31],[24,39,24,40],[26,1,26,13],[26,15,26,17],[26,19,26,27],[26,29,26,60],[29,0,30,0],[29,1,29,13],[29,14,29,17],[29,18,29,60],[30,1,30,13],[30,14,30,17],[27,0,28,0],[27,1,28,13],[27,14,27,17],[27,18,27,60],[28,14,28,17],[28,18,28,60],[34,1,34,60],[30,18,30,42],[30,43,30,46],[30,47,30,59],[31,1,31,60],[32,1,32,60],[33,1,33,60]]}
[]
[null,null,null,null,null,null,null,null,null,null,null,null,null,null,null,null,null,null,null,null,null,null,null,null,null,null,null,null,null,null,null,null,null,null,null,null,null,null,null,null,null,null,null,null,null,null,null,null,null,null,null,null,null,null,null,null,null,null,null,"大建第　　　－　　　号"]
[null,null,null,null,null,null,null,null,null,null,null,null,null,null,null,null,null,null,null,null,null,null,null,null,null,null,null,null,null,null,null,null,null,null,null,null,null,null,null,null,null,null,null,null,null,null,null,null,null,null,null,null,null,null,null,null,null,null,null,"令和　　　年　　　月　　　日"]
[]
[]
[null,null,null,"大町市長　様"]
[]
[]
[]
[null,null,null,null,null,null,null,null,null,null,null,null,null,null,null,null,null,null,null,null,null,null,null,null,null,null,null,null,null,null,null,null,null,null,null,null,null,null,null,null,null,null,null,null,null,null,null,null,null,null,null,null,"長野県大町建設事務所長"]
[]
[]
["通行禁止（制限）について（通知）"]
[]
[null,"このことについて、下記のとおり通行禁止（制限）をいたしますからご承知ください。"]
[null,"なお、お手数ですが、関係地域住民へ有線放送等により周知されるようお願いします。"]
[]
["記"]
["路　　線　　名",null,null,null,null,null,null,null,null,null,null,null,null,null,null,{"$f":"入力!E18","v":0}]
[1,"通行制限箇所",null,null,null,null,null,null,null,null,null,null,null,null,null,{"$f":"入力!E19","v":0}]
[2,"通行制限理由",null,null,null,null,null,null,null,null,null,null,null,null,null,{"$f":"入力!E20","v":0}]
[3,"種別",null,null,null,null,null,null,null,null,null,null,null,null,"　",{"$f":"入力!E21&\"  \"&入力!R21&\"  \"&入力!AE21","v":"    "}]
[4,"通行制限期間",null,null,null,null,null,null,null,null,null,null,null,null,null,"令和",null,null,{"$f":"入力!H22","v":0},null,"年",null,{"$f":"入力!L22","v":0},null,"月",null,{"$f":"入力!P22","v":0},null,"日",null,"～",null,"令和",null,null,{"$f":"入力!Y22","v":0},null,"年",null,{"$f":"入力!AC22","v":0},null,"月",null,{"$f":"入力!AG22","v":0},null,"日",null,"（うち",null,null,null,{"$f":"入力!AO22","v":0},null,null,"日間程度）"]
[5,"　〃　　 時間",null,null,null,null,null,null,null,null,null,null,null,null,null,{"$f":"入力!E23","v":0},null,null,null,null,null,null,"（",null,{"$f":"入力!N23","v":0},null,"：",{"$f":"入力!Q23","v":0},null,"～",null,{"$f":"入力!U23","v":0},null,"：",{"$f":"入力!X23","v":0},null,"）",null,{"$f":"入力!AB23","v":"（うち　日間程度）"}]
[6,"工事期間",null,null,null,null,null,null,null,null,null,null,null,null,null,"令和",null,null,{"$f":"入力!H24","v":0},null,"年",null,{"$f":"入力!L24","v":0},null,"月",null,{"$f":"入力!P24","v":0},null,"日",null,"～",null,"令和",null,null,{"$f":"入力!Y24","v":0},null,"年",null,{"$f":"入力!AC24","v":0},null,"月",null,{"$f":"入力!AG24","v":0},null,"日"]
[7,"バス路線の\n有無",null,null,null,null,null,null,null,null,null,null,null,null,null,{"$f":"入力!E25","v":0},null,null,null,"(バス会社名)",null,null,null,null,null,null,null,null,null,{"$f":"入力!S25","v":0}]
[8,"迂回路線の\n有無",null,null,null,null,null,null,null,null,null,null,null,null,null,{"$f":"入力!E26","v":0},null,null,null,"(迂回路線名)",null,null,null,null,null,null,null,null,null,{"$f":"入力!S26","v":0}]
[9,"工事施工者",null,null,null,null,null,null,null,null,null,null,null,null,"住所",null,null,null,{"$f":"入力!H27","v":0}]
[null,null,null,null,null,null,null,null,null,null,null,null,null,null,"氏名",null,null,null,{"$f":"入力!H28","v":0}]
[10,"工事施工現場",null,null,null,null,null,null,null,null,null,null,null,null,"住所",null,null,null,{"$f":"入力!H29","v":0}]
[null,"責任者",null,null,null,null,null,null,null,null,null,null,null,null,"氏名",null,null,null,{"$f":"入力!H30","v":0},null,null,null,null,null,null,null,null,null,null,null,null,null,null,null,null,null,null,null,null,null,null,null,null,"電話(",null,null,null,{"$f":"入力!AK30","v":0},null,null,null,null,null,null,null,null,null,null,null,null,")"]
[null,"（注）　添付図書を添付すること。"]
[]
[]
[]
[null,"（市町村）"]

{"sheet":"申請者","index":11,"n_rows":37,"n_cols":61,"rows_kept":37,"cut":false,"hidden":true,"merged":[[5,3,6,60],[14,5,14,6],[14,2,14,4],[14,7,14,8],[14,9,14,10],[14,11,14,12],[14,13,14,14],[14,15,14,57],[12,0,12,60],[18,0,18,60],[19,0,19,13],[19,15,19,60],[21,1,21,13],[21,15,21,60],[20,1,20,13],[20,15,20,60],[22,1,22,13],[24,29,24,30],[24,31,24,32],[23,28,23,29],[23,32,23,34],[22,15,22,60],[23,1,23,13],[23,15,23,17],[23,18,23,19],[23,41,23,42],[23,51,23,53],[23,54,23,60],[23,43,23,44],[23,45,23,46],[23,47,23,50],[23,39,23,40],[23,35,23,36],[23,37,23,38],[24,1,24,13],[24,15,24,21],[24,22,24,23],[24,24,24,25],[23,20,23,21],[23,22,23,23],[23,24,23,25],[23,26,23,27],[23,30,23,31],[24,36,24,37],[24,27,24,28],[24,34,24,35],[25,39,25,40],[25,37,25,38],[24,38,24,60],[25,41,25,42],[25,43,25,44],[25,45,25,46],[26,1,26,13],[26,15,26,17],[26,19,26,27],[26,29,26,60],[25,24,25,25],[25,35,25,36],[25,1,25,13],[25,15,25,17],[25,18,25,19],[25,28,25,29],[25,30,25,31],[25,20,25,21],[25,22,25,23],[25,26,25,27],[25,32,25,34],[28,0,29,0],[28,1,29,13],[28,14,28,17],[28,18,28,60],[29,14,29,17],[29,18,29,60],[30,0,31,0],[30,1,30,13],[30,14,30,17],[30,18,30,60],[31,1,31,13],[27,1,27,13],[27,15,27,17],[27,19,27,27],[27,29,27,60],[31,14,31,17],[35,1,35,60],[31,18,31,42],[31,43,31,46],[31,47,31,59],[32,1,32,60],[33,1,33,60],[34,1,34,60]]}
[]
[null,null,null,null,null,null,null,null,null,null,null,null,null,null,null,null,null,null,null,null,null,null,null,null,null,null,null,null,null,null,null,null,null,null,null,null,null,null,null,null,null,null,null,null,null,null,null,null,null,null,null,null,null,null,null,null,null,null,null,"大建第　　　－　　　号"]
[null,null,null,null,null,null,null,null,null,null,null,null,null,null,null,null,null,null,null,null,null,null,null,null,null,null,null,null,null,null,null,null,null,null,null,null,null,null,null,null,null,null,null,null,null,null,null,null,null,null,null,null,null,null,null,null,null,null,null,"令和　　　年　　　月　　　日"]
[]
[]
[null,null,null,{"$f":"IF(入力!T13<>\"\",入力!T12&CHAR(10)& 入力!T13&\"　様\",入力!T12&\"　様\")","v":"　様"}]
[]
[]
[]
[null,null,null,null,null,null,null,null,null,null,null,null,null,null,null,null,null,null,null,null,null,null,null,null,null,null,null,null,null,null,null,null,null,null,null,null,null,null,null,null,null,null,null,null,null,null,null,null,null,null,null,null,"長野県大町建設事務所長"]
[]
[]
["通行禁止（制限）について（通知）"]
[]
[null,null,"平成",null,null,{"$f":"入力!AM6","v":0},null,"年",null,{"$f":"入力!AQ6","v":0},null,"月",null,{"$f":"入力!AU6","v":0},null,"日付けで申請のあったこのことについては、下記のとおり通行禁"]
["　止（制限）しますので附近住民に周知されるとともに、工事標識等の設置については申請"]
["　のとおり必ず設置し、事故防止に万全を期してください。"]
[]
["記"]
["路　　線　　名",null,null,null,null,null,null,null,null,null,null,null,null,null,null,{"$f":"入力!E18","v":0}]
[1,"通行制限箇所",null,null,null,null,null,null,null,null,null,null,null,null,null,{"$f":"入力!E19","v":0}]
[2,"通行制限理由",null,null,null,null,null,null,null,null,null,null,null,null,null,{"$f":"入力!E20","v":0}]
[3,"種別",null,null,null,null,null,null,null,null,null,null,null,null,"　",{"$f":"入力!E21&\"  \"&入力!R21&\"  \"&入力!AE21","v":"    "}]
[4,"通行制限期間",null,null,null,null,null,null,null,null,null,null,null,null,null,"令和",null,null,{"$f":"入力!H22","v":0},null,"年",null,{"$f":"入力!L22","v":0},null,"月",null,{"$f":"入力!P22","v":0},null,"日",null,"～",null,"令和",null,null,{"$f":"入力!Y22","v":0},null,"年",null,{"$f":"入力!AC22","v":0},null,"月",null,{"$f":"入力!AG22","v":0},null,"日",null,"（うち",null,null,null,{"$f":"入力!AO22","v":0},null,null,"日間程度）"]
[5,"　〃　　 時間",null,null,null,null,null,null,null,null,null,null,null,null,null,{"$f":"入力!E23","v":0},null,null,null,null,null,null,"（",null,{"$f":"入力!N23","v":0},null,"：",{"$f":"入力!Q23","v":0},null,"～",null,{"$f":"入力!U23","v":0},null,"：",{"$f":"入力!X23","v":0},null,"）",null,{"$f":"入力!AB23","v":"（うち　日間程度）"}]
[6,"工事期間",null,null,null,null,null,null,null,null,null,null,null,null,null,"令和",null,null,{"$f":"入力!H24","v":0},null,"年",null,{"$f":"入力!L24","v":0},null,"月",null,{"$f":"入力!P24","v":0},null,"日",null,"～",null,"令和",null,null,{"$f":"入力!Y24","v":0},null,"年",null,{"$f":"入力!AC24","v":0},null,"月",null,{"$f":"入力!AG24","v":0},null,"日"]
[7,"バス路線の\n有無",null,null,null,null,null,null,null,null,null,null,null,null,null,{"$f":"入力!E25","v":0},null,null,null,"(バス会社名)",null,null,null,null,null,null,null,null,null,{"$f":"入力!S25","v":0}]
[8,"迂回路線の\n有無",null,null,null,null,null,null,null,null,null,null,null,null,null,{"$f":"入力!E26","v":0},null,null,null,"(迂回路線名)",null,null,null,null,null,null,null,null,null,{"$f":"入力!S26","v":0}]
[9,"工事施工者",null,null,null,null,null,null,null,null,null,null,null,null,"住所",null,null,null,{"$f":"入力!H27","v":0}]
[null,null,null,null,null,null,null,null,null,null,null,null,null,null,"氏名",null,null,null,{"$f":"入力!H28","v":0}]
[10,"工事施工現場",null,null,null,null,null,null,null,null,null,null,null,null,"住所",null,null,null,{"$f":"入力!H29","v":0}]
[null,"責任者",null,null,null,null,null,null,null,null,null,null,null,null,"氏名",null,null,null,{"$f":"入力!H30","v":0},null,null,null,null,null,null,null,null,null,null,null,null,null,null,null,null,null,null,null,null,null,null,null,null,"電話(",null,null,null,{"$f":"入力!AK30","v":0},null,null,null,null,null,null,null,null,null,null,null,null,")"]
[null,"（注）　添付図書を添付すること。"]
[]
[]
[]
[null,"（申請者）"]