Workbook
Name ブロック: #REF!
Name 医療提供体制施設整備交付金: #REF!
Name 医療提供体制施設整備補助金: #REF!
Name 地域医療介護総合確保基金: #REF!
Name 鉄筋コンクリート: #REF!
Name 病床確保料: #REF!
Name 木造: #REF!

Sheet 【総額及び平均額】賃上げ支援事業実績報告書
A1: （様式第２号）※訪看ＳＴ（施設単位）の報告
A2: 診療所等賃上げ支援事業賃金改善報告書 | H2: （記載要領）
A3: 開設者： | F3: ❶：賃金改善の総額（自動計算） | G3: =SUM($G$9:$G$13) -> 0 | H3: 左側（E列）：開設者名を記載してください。（例：医療法人○○会 理事長 ○○ ○○） 右側（G列）：❶は賃金改善の総額が転記されます。
A4: 訪問看護ステーションの名称： | F4: 賃金改善に係る診療報酬及び他の補助金等を受けた場合その額（直接入力） | G4: 0 | H4: 左側（E列）：施設の名称を記載してください。（例：医療法人○○会 ▲▲医院） 右側（G列）：❶に記載された「賃金改善の総額」にベースアップ評価料を活用した金額や本給付金以外の賃上げ補助金を活用した金額が含まれている場合はその金額を記載してください。
F5: ❷：補助対象経費（自動計算）（千円未満切り捨て） | G5: =ROUNDDOWN(G3-G4,-3) -> 0 | H5: 右側（G列）：❶－❷が自動計算されます。 | I5: ○ | J5: ×
A6: 実績報告額 | E6: =IF(G5>=228000,228000,G5) -> 0 | H6: 実績報告額は賃上げ支援事業の支給額となります。
A7: 令和７年12月分から令和８年５月分までの ６ヶ月における賃金改善 | B7: 入力欄 （職員・職種・役職によって異なる場合は、総額を変えずに、かつ対象職員全員が同じ金額だけ改善された場合に計算しなおして入力してください） | F7: 給付金の対象となった賃金改善の総額
A8: 賃金改善（全体）の内容 | B8: ①対象人数 （常勤換算数） | C8: ②月額または 月額換算額 | D8: ③月数 | E8: 令和８年６月１日以降の 賃金改善水準（直接入力）（比較対象は給付金による賃金改善前の水準） | F8: 賃金改善の総額 （自動計算） | H8: 「対象職員の常勤換算数」は、当該時点における対象職員の人数を常勤換算で記載してください。常勤の職員の常勤換算数は１としてください。 常勤でない職員の常勤換算数は、「当該常勤でない職員の所定労働時間」を「当該保険医療機関において定めている常勤職員の所定労働時間」で除して得た数（当該常勤でない職員の常勤換算数が１を超える場合は、１とする。）としてください。
A9: 基本給の引き上げ | G9: =B9*C9*D9 -> 0 | H9: 給付金を活用して令和７年12月から令和８年５月までの間に基本給を引き上げた分の月額（円単位）を直接入力してください。
A10: 毎月決まって支払われる手当の引き上げ | G10: =B10*C10*D10 -> 0 | H10: 給付金を活用して令和７年12月から令和８年５月までの間に毎月決まって支払われる手当の引き上げによる賃金改善を行った額（円単位）を直接入力してください。
A11: （給付金を充て、算出可能な場合のみ記載） 基本給や毎月決まって支払われる手当の引き上げに伴う賞与、時間外手当、法定福利費（事業主負担分のみ）等の増加分に用いた金額（算出が難しい場合は上記に含めてください。） | G11: =B11*C11*D11 -> 0 | H11: 給付金を活用して令和７年12月から令和８年５月までの間に上記（基本給・毎月の手当）の引き上げに伴う賞与、時間外手当、法定福利費等の増加分に用いた額（円単位）を直接入力してください。 当該部分を算出できないものの、給付金を充てている場合は上記に含めてください。
A12: 一時金または特別手当 | G12: =B12*C12*D12 -> 0 | H12: 給付金を活用して令和７年12月分から令和８年３月分までの最大４ヶ月分として支給した一時金または特別手当の金額（円単位）を直接入力してください。 | I12: 1 | J12: 2 | K12: 3 | L12: 4
F13: 令和７年度に2.0％を上回るベースアップをすでに実施していた場合で、令和７年12月から令和８年５月までの間の当該2.0％を上回る部分の補てんに本給付金を充てた場合は、別紙にて算定した金額を右の欄に記載してください | G13: ='別紙（2.0％超部分算定シート）'!I4+'別紙（2.0％超部分算定シート）'!I5+'別紙（2.0％超部分算定シート）'!I6 -> 0 | H13: 当該運用を活用した場合のみ別紙で算定してください。
A14: 以下、給付金を活用した、個別職種の賃金改善の内容について記載してください。
A15: 看護職員等（保健師、助産師、看護師及び准看護師）の賃金改善の内容 | B15: ①対象人数 （常勤換算数） | C15: ②月額または 月額換算額 | D15: ③月数 | E15: 令和８年６月１日以降の 賃金改善水準（直接入力）（比較対象は給付金による賃金改善前の水準） | F15: 賃金改善の総額 （自動計算） | H15: 「対象職員の常勤換算数」は、当該時点における対象職員の人数を常勤換算で記載してください。常勤の職員の常勤換算数は１としてください。 常勤でない職員の常勤換算数は、「当該常勤でない職員の所定労働時間」を「当該保険医療機関において定めている常勤職員の所定労働時間」で除して得た数（当該常勤でない職員の常勤換算数が１を超える場合は、１とする。）としてください。
A16: 基本給の引き上げ | G16: =B16*C16*D16 -> 0 | H16: 給付金を活用して令和７年12月から令和８年５月までの間に基本給の引き上げによる賃金改善を行った額（円単位）を直接入力してください。
A17: 毎月決まって支払われる手当の引き上げ | G17: =B17*C17*D17 -> 0 | H17: 給付金を活用して令和７年12月から令和８年５月までの間に毎月決まって支払われる手当の引き上げによる賃金改善を行った額（円単位）を直接入力してください。
A18: （給付金を充て、算出可能な場合のみ記載） 基本給や毎月決まって支払われる手当の引き上げに伴う賞与、時間外手当、法定福利費（事業主負担分のみ）等の増加分に用いた金額（算出が難しい場合は上記に含めてください。） | G18: =B18*C18*D18 -> 0 | H18: 給付金を活用して令和７年12月から令和８年５月までの間に上記（基本給・毎月の手当）の引き上げに伴う賞与、時間外手当、法定福利費等の増加分に用いた額（円単位）を直接入力してください。 当該部分を算出できないものの、給付金を充てている場合は上記に含めてください。
A19: 一時金または特別手当 | G19: =B19*C19*D19 -> 0 | H19: 給付金を活用して令和７年12月分から令和８年３月分までの最大４ヶ月分として支給した一時金または特別手当の金額（円単位）を直接入力してください。 | I19: 1 | J19: 2 | K19: 3 | L19: 4
A20: 事務職員の賃金改善の内容 | B20: ①対象人数 （常勤換算数） | C20: ②月額または 月額換算額 | D20: ③月数 | E20: 令和８年６月１日以降の 賃金改善水準（直接入力）（比較対象は給付金による賃金改善前の水準） | F20: 賃金改善の総額 （自動計算） | H20: 「対象職員の常勤換算数」は、当該時点における対象職員の人数を常勤換算で記載してください。常勤の職員の常勤換算数は１としてください。 常勤でない職員の常勤換算数は、「当該常勤でない職員の所定労働時間」を「当該保険医療機関において定めている常勤職員の所定労働時間」で除して得た数（当該常勤でない職員の常勤換算数が１を超える場合は、１とする。）としてください。
A21: 基本給の引き上げ | G21: =B21*C21*D21 -> 0 | H21: 給付金を活用して令和７年12月から令和８年５月までの間に基本給の引き上げによる賃金改善を行った額（円単位）を直接入力してください。
A22: 毎月決まって支払われる手当の引き上げ | G22: =B22*C22*D22 -> 0 | H22: 給付金を活用して令和７年12月から令和８年５月までの間に毎月決まって支払われる手当の引き上げによる賃金改善を行った額（円単位）を直接入力してください。
A23: （給付金を充て、算出可能な場合のみ記載） 基本給や毎月決まって支払われる手当の引き上げに伴う賞与、時間外手当、法定福利費（事業主負担分のみ）等の増加分に用いた金額（算出が難しい場合は上記に含めてください。） | G23: =B23*C23*D23 -> 0 | H23: 給付金を活用して令和７年12月から令和８年５月までの間に上記（基本給・毎月の手当）の引き上げに伴う賞与、時間外手当、法定福利費等の増加分に用いた額（円単位）を直接入力してください。 当該部分を算出できないものの、給付金を充てている場合は上記に含めてください。
A24: 一時金または特別手当 | G24: =B24*C24*D24 -> 0 | H24: 給付金を活用して令和７年12月分から令和８年３月分までの最大４ヶ月分として支給した一時金または特別手当の金額（円単位）を直接入力してください。 | I24: 1 | J24: 2 | K24: 3 | L24: 4
A25: 看護補助者の賃金改善の内容 | B25: ①対象人数 （常勤換算数） | C25: ②月額または 月額換算額 | D25: ③月数 | E25: 令和８年６月１日以降の 賃金改善水準（直接入力）（比較対象は給付金による賃金改善前の水準） | F25: 賃金改善の総額 （自動計算） | H25: 「対象職員の常勤換算数」は、当該時点における対象職員の人数を常勤換算で記載してください。常勤の職員の常勤換算数は１としてください。 常勤でない職員の常勤換算数は、「当該常勤でない職員の所定労働時間」を「当該保険医療機関において定めている常勤職員の所定労働時間」で除して得た数（当該常勤でない職員の常勤換算数が１を超える場合は、１とする。）としてください。
A26: 基本給の引き上げ | G26: =B26*C26*D26 -> 0 | H26: 給付金を活用して令和７年12月から令和８年５月までの間に基本給の引き上げによる賃金改善を行った額（円単位）を直接入力してください。
A27: 毎月決まって支払われる手当の引き上げ | G27: =B27*C27*D27 -> 0 | H27: 給付金を活用して令和７年12月から令和８年５月までの間に毎月決まって支払われる手当の引き上げによる賃金改善を行った額（円単位）を直接入力してください。
A28: （給付金を充て、算出可能な場合のみ記載） 基本給や毎月決まって支払われる手当の引き上げに伴う賞与、時間外手当、法定福利費（事業主負担分のみ）等の増加分に用いた金額（算出が難しい場合は上記に含めてください。） | G28: =B28*C28*D28 -> 0 | H28: 給付金を活用して令和７年12月から令和８年５月までの間に上記（基本給・毎月の手当）の引き上げに伴う賞与、時間外手当、法定福利費等の増加分に用いた額（円単位）を直接入力してください。 当該部分を算出できないものの、給付金を充てている場合は上記に含めてください。
A29: 一時金または特別手当 | G29: =B29*C29*D29 -> 0 | H29: 給付金を活用して令和７年12月分から令和８年３月分までの最大４ヶ月分として支給した一時金または特別手当の金額（円単位）を直接入力してください。 | I29: 1 | J29: 2 | K29: 3 | L29: 4
A30: （リハビリ職について常勤（換算しない）10人以上を雇用している場合は必ず記載） リハビリ職種（理学療法士、作業療法士、言語聴覚士）の賃金改善の内容 | B30: ①対象人数 （常勤換算数） | C30: ②月額または 月額換算額 | D30: ③月数 | E30: 令和８年６月１日以降の 賃金改善水準（直接入力）（比較対象は給付金による賃金改善前の水準） | F30: 賃金改善の総額 （自動計算） | H30: 「対象職員の常勤換算数」は、当該時点における対象職員の人数を常勤換算で記載してください。常勤の職員の常勤換算数は１としてください。 常勤でない職員の常勤換算数は、「当該常勤でない職員の所定労働時間」を「当該保険医療機関において定めている常勤職員の所定労働時間」で除して得た数（当該常勤でない職員の常勤換算数が１を超える場合は、１とする。）としてください。
A31: 基本給の引き上げ | G31: =B31*C31*D31 -> 0 | H31: 給付金を活用して令和７年12月から令和８年５月までの間に基本給の引き上げによる賃金改善を行った額（円単位）を直接入力してください。
A32: 毎月決まって支払われる手当の引き上げ | G32: =B32*C32*D32 -> 0 | H32: 給付金を活用して令和７年12月から令和８年５月までの間に毎月決まって支払われる手当の引き上げによる賃金改善を行った額（円単位）を直接入力してください。
A33: （給付金を充て、算出可能な場合のみ記載） 基本給や毎月決まって支払われる手当の引き上げに伴う賞与、時間外手当、法定福利費（事業主負担分のみ）等の増加分に用いた金額（算出が難しい場合は上記に含めてください。） | G33: =B33*C33*D33 -> 0 | H33: 給付金を活用して令和７年12月から令和８年５月までの間に上記（基本給・毎月の手当）の引き上げに伴う賞与、時間外手当、法定福利費等の増加分に用いた額（円単位）を直接入力してください。 当該部分を算出できないものの、給付金を充てている場合は上記に含めてください。
A34: 一時金または特別手当 | G34: =B34*C34*D34 -> 0 | H34: 給付金を活用して令和７年12月分から令和８年３月分までの最大４ヶ月分として支給した一時金または特別手当の金額（円単位）を直接入力してください。 | I34: 1 | J34: 2 | K34: 3 | L34: 4
A35: （理学療法士単独の賃金表がある場合は必ず記載） 理学療法士の賃金改善の内容 | B35: ①対象人数 （常勤換算数） | C35: ②月額または 月額換算額 | D35: ③月数 | E35: 令和８年６月１日以降の 賃金改善水準（直接入力）（比較対象は給付金による賃金改善前の水準） | F35: 賃金改善の総額 （自動計算） | H35: 「対象職員の常勤換算数」は、当該時点における対象職員の人数を常勤換算で記載してください。常勤の職員の常勤換算数は１としてください。 常勤でない職員の常勤換算数は、「当該常勤でない職員の所定労働時間」を「当該保険医療機関において定めている常勤職員の所定労働時間」で除して得た数（当該常勤でない職員の常勤換算数が１を超える場合は、１とする。）としてください。
A36: 基本給の引き上げ | G36: =B36*C36*D36 -> 0 | H36: 給付金を活用して令和７年12月から令和８年５月までの間に基本給の引き上げによる賃金改善を行った額（円単位）を直接入力してください。
A37: 毎月決まって支払われる手当の引き上げ | G37: =B37*C37*D37 -> 0 | H37: 給付金を活用して令和７年12月から令和８年５月までの間に毎月決まって支払われる手当の引き上げによる賃金改善を行った額（円単位）を直接入力してください。
A38: （給付金を充て、算出可能な場合のみ記載） 基本給や毎月決まって支払われる手当の引き上げに伴う賞与、時間外手当、法定福利費（事業主負担分のみ）等の増加分に用いた金額（算出が難しい場合は上記に含めてください。） | G38: =B38*C38*D38 -> 0 | H38: 給付金を活用して令和７年12月から令和８年５月までの間に上記（基本給・毎月の手当）の引き上げに伴う賞与、時間外手当、法定福利費等の増加分に用いた額（円単位）を直接入力してください。 当該部分を算出できないものの、給付金を充てている場合は上記に含めてください。
A39: 一時金または特別手当 | G39: =B39*C39*D39 -> 0 | H39: 給付金を活用して令和７年12月分から令和８年３月分までの最大４ヶ月分として支給した一時金または特別手当の金額（円単位）を直接入力してください。 | I39: 1 | J39: 2 | K39: 3 | L39: 4
A40: （作業療法士単独の賃金表がある場合は必ず記載） 作業療法士の賃金改善の内容 | B40: ①対象人数 （常勤換算数） | C40: ②月額または 月額換算額 | D40: ③月数 | E40: 令和８年６月１日以降の 賃金改善水準（直接入力）（比較対象は給付金による賃金改善前の水準） | F40: 賃金改善の総額 （自動計算） | H40: 「対象職員の常勤換算数」は、当該時点における対象職員の人数を常勤換算で記載してください。常勤の職員の常勤換算数は１としてください。 常勤でない職員の常勤換算数は、「当該常勤でない職員の所定労働時間」を「当該保険医療機関において定めている常勤職員の所定労働時間」で除して得た数（当該常勤でない職員の常勤換算数が１を超える場合は、１とする。）としてください。
A41: 基本給の引き上げ | G41: =B41*C41*D41 -> 0 | H41: 給付金を活用して令和７年12月から令和８年５月までの間に基本給の引き上げによる賃金改善を行った額（円単位）を直接入力してください。
A42: 毎月決まって支払われる手当の引き上げ | G42: =B42*C42*D42 -> 0 | H42: 給付金を活用して令和７年12月から令和８年５月までの間に毎月決まって支払われる手当の引き上げによる賃金改善を行った額（円単位）を直接入力してください。
A43: （給付金を充て、算出可能な場合のみ記載） 基本給や毎月決まって支払われる手当の引き上げに伴う賞与、時間外手当、法定福利費（事業主負担分のみ）等の増加分に用いた金額（算出が難しい場合は上記に含めてください。） | G43: =B43*C43*D43 -> 0 | H43: 給付金を活用して令和７年12月から令和８年５月までの間に上記（基本給・毎月の手当）の引き上げに伴う賞与、時間外手当、法定福利費等の増加分に用いた額（円単位）を直接入力してください。 当該部分を算出できないものの、給付金を充てている場合は上記に含めてください。
A44: 一時金または特別手当 | G44: =B44*C44*D44 -> 0 | H44: 給付金を活用して令和７年12月分から令和８年３月分までの最大４ヶ月分として支給した一時金または特別手当の金額（円単位）を直接入力してください。 | I44: 1 | J44: 2 | K44: 3 | L44: 4
A45: （言語聴覚士単独の賃金表がある場合は必ず記載） 言語聴覚士の賃金改善の内容 | B45: ①対象人数 （常勤換算数） | C45: ②月額または 月額換算額 | D45: ③月数 | E45: 令和８年６月１日以降の 賃金改善水準（直接入力）（比較対象は給付金による賃金改善前の水準） | F45: 賃金改善の総額 （自動計算） | H45: 「対象職員の常勤換算数」は、当該時点における対象職員の人数を常勤換算で記載してください。常勤の職員の常勤換算数は１としてください。 常勤でない職員の常勤換算数は、「当該常勤でない職員の所定労働時間」を「当該保険医療機関において定めている常勤職員の所定労働時間」で除して得た数（当該常勤でない職員の常勤換算数が１を超える場合は、１とする。）としてください。
A46: 基本給の引き上げ | G46: =B46*C46*D46 -> 0 | H46: 給付金を活用して令和７年12月から令和８年５月までの間に基本給の引き上げによる賃金改善を行った額（円単位）を直接入力してください。
A47: 毎月決まって支払われる手当の引き上げ | G47: =B47*C47*D47 -> 0 | H47: 給付金を活用して令和７年12月から令和８年５月までの間に毎月決まって支払われる手当の引き上げによる賃金改善を行った額（円単位）を直接入力してください。
A48: （給付金を充て、算出可能な場合のみ記載） 基本給や毎月決まって支払われる手当の引き上げに伴う賞与、時間外手当、法定福利費（事業主負担分のみ）等の増加分に用いた金額（算出が難しい場合は上記に含めてください。） | G48: =B48*C48*D48 -> 0 | H48: 給付金を活用して令和７年12月から令和８年５月までの間に上記（基本給・毎月の手当）の引き上げに伴う賞与、時間外手当、法定福利費等の増加分に用いた額（円単位）を直接入力してください。 当該部分を算出できないものの、給付金を充てている場合は上記に含めてください。
A49: 一時金または特別手当 | G49: =B49*C49*D49 -> 0 | H49: 給付金を活用して令和７年12月分から令和８年３月分までの最大４ヶ月分として支給した一時金または特別手当の金額（円単位）を直接入力してください。 | I49: 1 | J49: 2 | K49: 3 | L49: 4
A50: （上記職種以外の職員） その他職員の賃金改善の内容 ※上記職種以外の職種の賃金改善状況（給付金を活用したもの）を記載してください。 ※なお、上記職種ごとの報告が困難な場合も当欄にまとめて記載してください。 | B50: ①対象人数 （常勤換算数） | C50: ②月額または 月額換算額 | D50: ③月数 | E50: 令和８年６月１日以降の 賃金改善水準（直接入力）（比較対象は給付金による賃金改善前の水準） | F50: 賃金改善の総額 （自動計算） | H50: 「対象職員の常勤換算数」は、当該時点における対象職員の人数を常勤換算で記載してください。常勤の職員の常勤換算数は１としてください。 常勤でない職員の常勤換算数は、「当該常勤でない職員の所定労働時間」を「当該保険医療機関において定めている常勤職員の所定労働時間」で除して得た数（当該常勤でない職員の常勤換算数が１を超える場合は、１とする。）としてください。
A51: 基本給の引き上げ | G51: =B51*C51*D51 -> 0 | H51: 給付金を活用して令和７年12月から令和８年５月までの間に基本給の引き上げによる賃金改善を行った額（円単位）を直接入力してください。
A52: 毎月決まって支払われる手当の引き上げ | G52: =B52*C52*D52 -> 0 | H52: 給付金を活用して令和７年12月から令和８年５月までの間に毎月決まって支払われる手当の引き上げによる賃金改善を行った額（円単位）を直接入力してください。
A53: （給付金を充て、算出可能な場合のみ記載） 基本給や毎月決まって支払われる手当の引き上げに伴う賞与、時間外手当、法定福利費（事業主負担分のみ）等の増加分に用いた金額（算出が難しい場合は上記に含めてください。） | G53: =B53*C53*D53 -> 0 | H53: 給付金を活用して令和７年12月から令和８年５月までの間に上記（基本給・毎月の手当）の引き上げに伴う賞与、時間外手当、法定福利費等の増加分に用いた額（円単位）を直接入力してください。 当該部分を算出できないものの、給付金を充てている場合は上記に含めてください。
A54: 一時金または特別手当 | G54: =B54*C54*D54 -> 0 | H54: 給付金を活用して令和７年12月分から令和８年３月分までの最大４ヶ月分として支給した一時金または特別手当の金額（円単位）を直接入力してください。 | I54: 1 | J54: 2 | K54: 3 | L54: 4

Sheet 別紙（2.0％超部分算定シート）
A1: （別紙） ※訪問看護ステーション（施設単位）の報告 | B1: 【2.0超部分に充てる場合の算定シート】 （注）本算定シートは実施要綱で定めている「令和７年度の対象職員のベースアップについて、令和７年３月31日時点の賃金水準と比較して2.0％を上回って実施している場合は、令和７年12月から令和８年５月までの間の当該2.0％を上回る部分に本事業の支給額を充てることができる。」という例外的な運用を行った場合のみ作成してください。
A2: １名あたり平均額 （対象職員・対象職種・役職によって異なる場合は加重平均してください） | I2: 賃金改善の総額
A3: 賃金改善の内容（※） | B3: Ⅰ 令和７年３月31日時点の賃金水準（月額） | C3: Ⅱ 令和７年度中の賃金改善額（月額） | D3: Ⅲ 令和７年度中の賃金改善割合 | E3: Ⅳ 本事業の支給額を充てられる上限月額 | F3: Ⅴ 本事業の支給額を充てる月額 （Ⅳの範囲内） | G3: Ⅵ 本事業の支給額を充てる期間 （最大：令和７年12月～令和８年５月の６ヶ月） | H3: Ⅶ 対象人数 （常勤換算数）
A4: 令和７年度の対象職員の基本給の引き上げ分について、令和７年３月31日時点の賃金水準と比較して2.0％を上回って実施している場合は、令和７年12月から令和８年５月までの間の当該2.0％を上回る部分 | D4: =C4/B4 -> #DIV/0! | E4: =(D4-0.02)*B4 -> #DIV/0! | I4: =F4*G4*H4 -> 0
A5: 令和７年度の対象職員の毎月決まって支払われる手当の引き上げ分について、令和７年３月31日時点の賃金水準と比較して2.0％を上回って実施している場合は、令和７年12月から令和８年５月までの間の当該2.0％を上回る部分 | D5: =C5/B5 -> #DIV/0! | E5: =(D5-0.02)*B5 -> #DIV/0! | I5: =F5*G5*H5 -> 0
A6: （充てた場合のみ記載） 上記の2.0％を上回る部分に伴う賞与、時間外手当、法定福利費（事業主負担分を含む。）等の増加分に用いた金額（算出が難しいは上記に含めてください。） | I6: 0
A7: （※）計算方法は例えば下記の方法が考えられますが、対象とする賃金改善の内容や職員・職種の範囲は病院ごとに判断して計算いただくようお願いいたします。 例１：対象職員全体の賃金水準加重平均額をR7.3.31時点とR7.12.1以降とで比較し、R7.12月からR8.5月までの間の2.0％を上回る分に充てる。 例２：上記を職種別に比較し、2.0％を上回っている職種についてのみ、上回る分に充てる。 例３：対象職員ごとに比較し、2.0％を上回っている職員についてのみ、上回る分に充てる。 「対象職員の常勤換算数」は、当該時点における対象職員の人数を常勤換算で記載してください。常勤の職員の常勤換算数は１としてください。 常勤でない職員の常勤換算数は、「当該常勤でない職員の所定労働時間」を「当該保険医療機関において定めている常勤職員の所定労働時間」で除して得た数（当該常勤でない職員の常勤換算数が１を超える場合は、１とする。）としてください。

Sheet 【参考】集計用シート（賃上げ支援事業）
A1: 医療機関名 | B1: 法人名 | C1: １名あたり平均額 | D1: 医師の賃金改善実績の有無（右欄に○・×を記載） | E1: 賃金改善の内容 | F1: 賃上げ（ベースアップ分）（（①対象人数×②月額×③月数）÷①対象人数） | G1: 特別手当（（①対象人数×②月額×③月数）÷①対象人数） | H1: 一時金（（①対象人数×②支給額）÷①対象人数） | I1: 令和７年度の対象職員のベースアップについて、令和７年３月31日時点の賃金水準と比較して2.0％を上回って実施している場合は、令和７年12月から令和８年５月までの間の当該2.0％を上回る部分 | J1: 歯科医師の賃金改善実績の有無（右欄に○・×を記載） | K1: 賃金改善の内容 | L1: 賃上げ（ベースアップ分）（（①対象人数×②月額×③月数）÷①対象人数） | M1: 特別手当（（①対象人数×②月額×③月数）÷①対象人数） | N1: 一時金（（①対象人数×②支給額）÷①対象人数） | O1: 令和７年度の対象職員のベースアップについて、令和７年３月31日時点の賃金水準と比較して2.0％を上回って実施している場合は、令和７年12月から令和８年５月までの間の当該2.0％を上回る部分 | P1: 薬剤師の賃金改善実績の有無（右欄に○・×を記載） | Q1: 賃金改善の内容 | R1: 賃上げ（ベースアップ分）（（①対象人数×②月額×③月数）÷①対象人数） | S1: 特別手当（（①対象人数×②月額×③月数）÷①対象人数） | T1: 一時金（（①対象人数×②支給額）÷①対象人数） | U1: 令和７年度の対象職員のベースアップについて、令和７年３月31日時点の賃金水準と比較して2.0％を上回って実施している場合は、令和７年12月から令和８年５月までの間の当該2.0％を上回る部分 | V1: 保健師の賃金改善実績の有無（右欄に○・×を記載） | W1: 賃金改善の内容 | X1: 賃上げ（ベースアップ分）（（①対象人数×②月額×③月数）÷①対象人数） | Y1: 特別手当（（①対象人数×②月額×③月数）÷①対象人数） | Z1: 一時金（（①対象人数×②支給額）÷①対象人数） | AA1: 令和７年度の対象職員のベースアップについて、令和７年３月31日時点の賃金水準と比較して2.0％を上回って実施している場合は、令和７年12月から令和８年５月までの間の当該2.0％を上回る部分 | AB1: 助産師の賃金改善実績の有無（右欄に○・×を記載） | AC1: 賃金改善の内容 | AD1: 賃上げ（ベースアップ分）（（①対象人数×②月額×③月数）÷①対象人数） | AE1: 特別手当（（①対象人数×②月額×③月数）÷①対象人数） | AF1: 一時金（（①対象人数×②支給額）÷①対象人数） | AG1: 令和７年度の対象職員のベースアップについて、令和７年３月31日時点の賃金水準と比較して2.0％を上回って実施している場合は、令和７年12月から令和８年５月までの間の当該2.0％を上回る部分 | AH1: 看護師の賃金改善実績の有無（右欄に○・×を記載） | AI1: 賃金改善の内容 | AJ1: 賃上げ（ベースアップ分）（（①対象人数×②月額×③月数）÷①対象人数） | AK1: 特別手当（（①対象人数×②月額×③月数）÷①対象人数） | AL1: 一時金（（①対象人数×②支給額）÷①対象人数） | AM1: 令和７年度の対象職員のベースアップについて、令和７年３月31日時点の賃金水準と比較して2.0％を上回って実施している場合は、令和７年12月から令和８年５月までの間の当該2.0％を上回る部分 | AN1: 準看護師の賃金改善実績の有無（右欄に○・×を記載） | AO1: 賃金改善の内容 | AP1: 賃上げ（ベースアップ分）（（①対象人数×②月額×③月数）÷①対象人数） | AQ1: 特別手当（（①対象人数×②月額×③月数）÷①対象人数） | AR1: 一時金（（①対象人数×②支給額）÷①対象人数） | AS1: 令和７年度の対象職員のベースアップについて、令和７年３月31日時点の賃金水準と比較して2.0％を上回って実施している場合は、令和７年12月から令和８年５月までの間の当該2.0％を上回る部分 | AT1: 看護補助者の賃金改善実績の有無（右欄に○・×を記載） | AU1: 賃金改善の内容 | AV1: 賃上げ（ベースアップ分）（（①対象人数×②月額×③月数）÷①対象人数） | AW1: 特別手当（（①対象人数×②月額×③月数）÷①対象人数） | AX1: 一時金（（①対象人数×②支給額）÷①対象人数） | AY1: 令和７年度の対象職員のベースアップについて、令和７年３月31日時点の賃金水準と比較して2.0％を上回って実施している場合は、令和７年12月から令和８年５月までの間の当該2.0％を上回る部分 | AZ1: 理学療法士の賃金改善実績の有無（右欄に○・×を記載） | BA1: 賃金改善の内容 | BB1: 賃上げ（ベースアップ分）（（①対象人数×②月額×③月数）÷①対象人数） | BC1: 特別手当（（①対象人数×②月額×③月数）÷①対象人数） | BD1: 一時金（（①対象人数×②支給額）÷①対象人数） | BE1: 令和７年度の対象職員のベースアップについて、令和７年３月31日時点の賃金水準と比較して2.0％を上回って実施している場合は、令和７年12月から令和８年５月までの間の当該2.0％を上回る部分 | BF1: 作業療法士の賃金改善実績の有無（右欄に○・×を記載） | BG1: 賃金改善の内容 | BH1: 賃上げ（ベースアップ分）（（①対象人数×②月額×③月数）÷①対象人数） | BI1: 特別手当（（①対象人数×②月額×③月数）÷①対象人数） | BJ1: 一時金（（①対象人数×②支給額）÷①対象人数） | BK1: 令和７年度の対象職員のベースアップについて、令和７年３月31日時点の賃金水準と比較して2.0％を上回って実施している場合は、令和７年12月から令和８年５月までの間の当該2.0％を上回る部分 | BL1: 視能訓練士の賃金改善実績の有無（右欄に○・×を記載） | BM1: 賃金改善の内容 | BN1: 賃上げ（ベースアップ分）（（①対象人数×②月額×③月数）÷①対象人数） | BO1: 特別手当（（①対象人数×②月額×③月数）÷①対象人数） | BP1: 一時金（（①対象人数×②支給額）÷①対象人数） | BQ1: 令和７年度の対象職員のベースアップについて、令和７年３月31日時点の賃金水準と比較して2.0％を上回って実施している場合は、令和７年12月から令和８年５月までの間の当該2.0％を上回る部分 | BR1: 言語聴覚士の賃金改善実績の有無（右欄に○・×を記載） | BS1: 賃金改善の内容 | BT1: 賃上げ（ベースアップ分）（（①対象人数×②月額×③月数）÷①対象人数） | BU1: 特別手当（（①対象人数×②月額×③月数）÷①対象人数） | BV1: 一時金（（①対象人数×②支給額）÷①対象人数） | BW1: 令和７年度の対象職員のベースアップについて、令和７年３月31日時点の賃金水準と比較して2.0％を上回って実施している場合は、令和７年12月から令和８年５月までの間の当該2.0％を上回る部分 | BX1: 義肢装具士の賃金改善実績の有無（右欄に○・×を記載） | BY1: 賃金改善の内容 | BZ1: 賃上げ（ベースアップ分）（（①対象人数×②月額×③月数）÷①対象人数） | CA1: 特別手当（（①対象人数×②月額×③月数）÷①対象人数） | CB1: 一時金（（①対象人数×②支給額）÷①対象人数） | CC1: 令和７年度の対象職員のベースアップについて、令和７年３月31日時点の賃金水準と比較して2.0％を上回って実施している場合は、令和７年12月から令和８年５月までの間の当該2.0％を上回る部分 | CD1: 歯科衛生士の賃金改善実績の有無（右欄に○・×を記載） | CE1: 賃金改善の内容 | CF1: 賃上げ（ベースアップ分）（（①対象人数×②月額×③月数）÷①対象人数） | CG1: 特別手当（（①対象人数×②月額×③月数）÷①対象人数） | CH1: 一時金（（①対象人数×②支給額）÷①対象人数） | CI1: 令和７年度の対象職員のベースアップについて、令和７年３月31日時点の賃金水準と比較して2.0％を上回って実施している場合は、令和７年12月から令和８年５月までの間の当該2.0％を上回る部分 | CJ1: 歯科技工士の賃金改善実績の有無（右欄に○・×を記載） | CK1: 賃金改善の内容 | CL1: 賃上げ（ベースアップ分）（（①対象人数×②月額×③月数）÷①対象人数） | CM1: 特別手当（（①対象人数×②月額×③月数）÷①対象人数） | CN1: 一時金（（①対象人数×②支給額）÷①対象人数） | CO1: 令和７年度の対象職員のベースアップについて、令和７年３月31日時点の賃金水準と比較して2.0％を上回って実施している場合は、令和７年12月から令和８年５月までの間の当該2.0％を上回る部分 | CP1: 歯科業務補助者の賃金改善実績の有無（右欄に○・×を記載） | CQ1: 賃金改善の内容 | CR1: 賃上げ（ベースアップ分）（（①対象人数×②月額×③月数）÷①対象人数） | CS1: 特別手当（（①対象人数×②月額×③月数）÷①対象人数） | CT1: 一時金（（①対象人数×②支給額）÷①対象人数） | CU1: 令和７年度の対象職員のベースアップについて、令和７年３月31日時点の賃金水準と比較して2.0％を上回って実施している場合は、令和７年12月から令和８年５月までの間の当該2.0％を上回る部分 | CV1: 診療放射線技師の賃金改善実績の有無（右欄に○・×を記載） | CW1: 賃金改善の内容 | CX1: 賃上げ（ベースアップ分）（（①対象人数×②月額×③月数）÷①対象人数） | CY1: 特別手当（（①対象人数×②月額×③月数）÷①対象人数） | CZ1: 一時金（（①対象人数×②支給額）÷①対象人数） | DA1: 令和７年度の対象職員のベースアップについて、令和７年３月31日時点の賃金水準と比較して2.0％を上回って実施している場合は、令和７年12月から令和８年５月までの間の当該2.0％を上回る部分 | DB1: 診療エックス線技師の賃金改善実績の有無（右欄に○・×を記載） | DC1: 賃金改善の内容 | DD1: 賃上げ（ベースアップ分）（（①対象人数×②月額×③月数）÷①対象人数） | DE1: 特別手当（（①対象人数×②月額×③月数）÷①対象人数） | DF1: 一時金（（①対象人数×②支給額）÷①対象人数） | DG1: 令和７年度の対象職員のベースアップについて、令和７年３月31日時点の賃金水準と比較して2.0％を上回って実施している場合は、令和７年12月から令和８年５月までの間の当該2.0％を上回る部分 | DH1: 臨床検査技師の賃金改善実績の有無（右欄に○・×を記載） | DI1: 賃金改善の内容 | DJ1: 賃上げ（ベースアップ分）（（①対象人数×②月額×③月数）÷①対象人数） | DK1: 特別手当（（①対象人数×②月額×③月数）÷①対象人数） | DL1: 一時金（（①対象人数×②支給額）÷①対象人数） | DM1: 令和７年度の対象職員のベースアップについて、令和７年３月31日時点の賃金水準と比較して2.0％を上回って実施している場合は、令和７年12月から令和８年５月までの間の当該2.0％を上回る部分 | DN1: 衛生検査技師の賃金改善実績の有無（右欄に○・×を記載） | DO1: 賃金改善の内容 | DP1: 賃上げ（ベースアップ分）（（①対象人数×②月額×③月数）÷①対象人数） | DQ1: 特別手当（（①対象人数×②月額×③月数）÷①対象人数） | DR1: 一時金（（①対象人数×②支給額）÷①対象人数） | DS1: 令和７年４月から11月までの間の賃上げ（ベースアップ分） （（①対象人数×②月額×③月数（R7.4～11のうち該当月数））÷①対象人数） | DT1: 臨床工学技士の賃金改善実績の有無（右欄に○・×を記載） | DU1: 賃金改善の内容 | DV1: 賃上げ（ベースアップ分）（（①対象人数×②月額×③月数）÷①対象人数） | DW1: 特別手当（（①対象人数×②月額×③月数）÷①対象人数） | DX1: 一時金（（①対象人数×②支給額）÷①対象人数） | DY1: 令和７年４月から11月までの間の賃上げ（ベースアップ分） （（①対象人数×②月額×③月数（R7.4～11のうち該当月数））÷①対象人数） | DZ1: 管理栄養士の賃金改善実績の有無（右欄に○・×を記載） | EA1: 賃金改善の内容 | EB1: 賃上げ（ベースアップ分）（（①対象人数×②月額×③月数）÷①対象人数） | EC1: 特別手当（（①対象人数×②月額×③月数）÷①対象人数） | ED1: 一時金（（①対象人数×②支給額）÷①対象人数） | EE1: 令和７年４月から11月までの間の賃上げ（ベースアップ分） （（①対象人数×②月額×③月数（R7.4～11のうち該当月数））÷①対象人数） | EF1: 栄養士の賃金改善実績の有無（右欄に○・×を記載） | EG1: 賃金改善の内容 | EH1: 賃上げ（ベースアップ分）（（①対象人数×②月額×③月数）÷①対象人数） | EI1: 特別手当（（①対象人数×②月額×③月数）÷①対象人数） | EJ1: 一時金（（①対象人数×②支給額）÷①対象人数） | EK1: 令和７年４月から11月までの間の賃上げ（ベースアップ分） （（①対象人数×②月額×③月数（R7.4～11のうち該当月数））÷①対象人数） | EL1: 精神保健福祉士の賃金改善実績の有無（右欄に○・×を記載） | EM1: 賃金改善の内容 | EN1: 賃上げ（ベースアップ分）（（①対象人数×②月額×③月数）÷①対象人数） | EO1: 特別手当（（①対象人数×②月額×③月数）÷①対象人数） | EP1: 一時金（（①対象人数×②支給額）÷①対象人数） | EQ1: 令和７年４月から11月までの間の賃上げ（ベースアップ分） （（①対象人数×②月額×③月数（R7.4～11のうち該当月数））÷①対象人数） | ER1: 社会福祉士の賃金改善実績の有無（右欄に○・×を記載） | ES1: 賃金改善の内容 | ET1: 賃上げ（ベースアップ分）（（①対象人数×②月額×③月数）÷①対象人数） | EU1: 特別手当（（①対象人数×②月額×③月数）÷①対象人数） | EV1: 一時金（（①対象人数×②支給額）÷①対象人数） | EW1: 令和７年４月から11月までの間の賃上げ（ベースアップ分） （（①対象人数×②月額×③月数（R7.4～11のうち該当月数））÷①対象人数） | EX1: 介護福祉士の賃金改善実績の有無（右欄に○・×を記載） | EY1: 賃金改善の内容 | EZ1: 賃上げ（ベースアップ分）（（①対象人数×②月額×③月数）÷①対象人数） | FA1: 特別手当（（①対象人数×②月額×③月数）÷①対象人数） | FB1: 一時金（（①対象人数×②支給額）÷①対象人数） | FC1: 令和７年４月から11月までの間の賃上げ（ベースアップ分） （（①対象人数×②月額×③月数（R7.4～11のうち該当月数））÷①対象人数） | FD1: 保育士の賃金改善実績の有無（右欄に○・×を記載） | FE1: 賃金改善の内容 | FF1: 賃上げ（ベースアップ分）（（①対象人数×②月額×③月数）÷①対象人数） | FG1: 特別手当（（①対象人数×②月額×③月数）÷①対象人数） | FH1: 一時金（（①対象人数×②支給額）÷①対象人数） | FI1: 令和７年４月から11月までの間の賃上げ（ベースアップ分） （（①対象人数×②月額×③月数（R7.4～11のうち該当月数））÷①対象人数） | FJ1: 救急救命士の賃金改善実績の有無（右欄に○・×を記載） | FK1: 賃金改善の内容 | FL1: 賃上げ（ベースアップ分）（（①対象人数×②月額×③月数）÷①対象人数） | FM1: 特別手当（（①対象人数×②月額×③月数）÷①対象人数） | FN1: 一時金（（①対象人数×②支給額）÷①対象人数） | FO1: 令和７年４月から11月までの間の賃上げ（ベースアップ分） （（①対象人数×②月額×③月数（R7.4～11のうち該当月数））÷①対象人数） | FP1: あん摩マッサージ指圧師・はり師・きゆう師の賃金改善実績の有無（右欄に○・×を記載） | FQ1: 賃金改善の内容 | FR1: 賃上げ（ベースアップ分）（（①対象人数×②月額×③月数）÷①対象人数） | FS1: 特別手当（（①対象人数×②月額×③月数）÷①対象人数） | FT1: 一時金（（①対象人数×②支給額）÷①対象人数） | FU1: 令和７年４月から11月までの間の賃上げ（ベースアップ分） （（①対象人数×②月額×③月数（R7.4～11のうち該当月数））÷①対象人数） | FV1: 柔道整復師の賃金改善実績の有無（右欄に○・×を記載） | FW1: 賃金改善の内容 | FX1: 賃上げ（ベースアップ分）（（①対象人数×②月額×③月数）÷①対象人数） | FY1: 特別手当（（①対象人数×②月額×③月数）÷①対象人数） | FZ1: 一時金（（①対象人数×②支給額）÷①対象人数） | GA1: 令和７年４月から11月までの間の賃上げ（ベースアップ分） （（①対象人数×②月額×③月数（R7.4～11のうち該当月数））÷①対象人数） | GB1: 公認心理師の賃金改善実績の有無（右欄に○・×を記載） | GC1: 賃金改善の内容 | GD1: 賃上げ（ベースアップ分）（（①対象人数×②月額×③月数）÷①対象人数） | GE1: 特別手当（（①対象人数×②月額×③月数）÷①対象人数） | GF1: 一時金（（①対象人数×②支給額）÷①対象人数） | GG1: 令和７年４月から11月までの間の賃上げ（ベースアップ分） （（①対象人数×②月額×③月数（R7.4～11のうち該当月数））÷①対象人数） | GH1: 診療情報管理士の賃金改善実績の有無（右欄に○・×を記載） | GI1: 賃金改善の内容 | GJ1: 賃上げ（ベースアップ分）（（①対象人数×②月額×③月数）÷①対象人数） | GK1: 特別手当（（①対象人数×②月額×③月数）÷①対象人数） | GL1: 一時金（（①対象人数×②支給額）÷①対象人数） | GM1: 令和７年４月から11月までの間の賃上げ（ベースアップ分） （（①対象人数×②月額×③月数（R7.4～11のうち該当月数））÷①対象人数） | GN1: 医師事務作業補助者の賃金改善実績の有無（右欄に○・×を記載） | GO1: 賃金改善の内容 | GP1: 賃上げ（ベースアップ分）（（①対象人数×②月額×③月数）÷①対象人数） | GQ1: 特別手当（（①対象人数×②月額×③月数）÷①対象人数） | GR1: 一時金（（①対象人数×②支給額）÷①対象人数） | GS1: 令和７年４月から11月までの間の賃上げ（ベースアップ分） （（①対象人数×②月額×③月数（R7.4～11のうち該当月数））÷①対象人数） | GT1: その他医療に従事する職員（医師及び歯科医師を除く。）の賃金改善実績の有無（右欄に○・×を記載） | GU1: 賃金改善の内容 | GV1: 賃上げ（ベースアップ分）（（①対象人数×②月額×③月数）÷①対象人数） | GW1: 特別手当（（①対象人数×②月額×③月数）÷①対象人数） | GX1: 一時金（（①対象人数×②支給額）÷①対象人数） | GY1: 令和７年４月から11月までの間の賃上げ（ベースアップ分） （（①対象人数×②月額×③月数（R7.4～11のうち該当月数））÷①対象人数） | GZ1: その他専ら事務作業（医師事務作業補助者、看護補助者等が医療を専門とする職員の補助として行う事務作業を除く）を行う職員の賃金改善実績の有無（右欄に○・×を記載） | HA1: 賃金改善の内容 | HB1: 賃上げ（ベースアップ分）（（①対象人数×②月額×③月数）÷①対象人数） | HC1: 特別手当（（①対象人数×②月額×③月数）÷①対象人数） | HD1: 一時金（（①対象人数×②支給額）÷①対象人数） | HE1: 令和７年４月から11月までの間の賃上げ（ベースアップ分） （（①対象人数×②月額×③月数（R7.4～11のうち該当月数））÷①対象人数） | HF1: 賃金改善の総額 | HG1: 医師の賃金改善実績の有無（右欄に○・×を記載） | HH1: 賃金改善の内容 | HI1: 賃上げ（ベースアップ分）（①対象人数×②月額×③月数） | HJ1: 特別手当（①対象人数×②月額×③月数） | HK1: 一時金（①対象人数×②支給額） | HL1: 令和７年４月から11月までの間の賃上げ（ベースアップ分） （①対象人数×②月額×③月数（R7.4～11のうち該当月数） | HM1: 歯科医師の賃金改善実績の有無（右欄に○・×を記載） | HN1: 賃金改善の内容 | HO1: 賃上げ（ベースアップ分）（①対象人数×②月額×③月数） | HP1: 特別手当（①対象人数×②月額×③月数） | HQ1: 一時金（①対象人数×②支給額） | HR1: 令和７年４月から11月までの間の賃上げ（ベースアップ分） （①対象人数×②月額×③月数（R7.4～11のうち該当月数） | HS1: 薬剤師の賃金改善実績の有無（右欄に○・×を記載） | HT1: 賃金改善の内容 | HU1: 賃上げ（ベースアップ分）（①対象人数×②月額×③月数） | HV1: 特別手当（①対象人数×②月額×③月数） | HW1: 一時金（①対象人数×②支給額） | HX1: 令和７年４月から11月までの間の賃上げ（ベースアップ分） （①対象人数×②月額×③月数（R7.4～11のうち該当月数） | HY1: 保健師の賃金改善実績の有無（右欄に○・×を記載） | HZ1: 賃金改善の内容 | IA1: 賃上げ（ベースアップ分）（①対象人数×②月額×③月数） | IB1: 特別手当（①対象人数×②月額×③月数） | IC1: 一時金（①対象人数×②支給額） | ID1: 令和７年４月から11月までの間の賃上げ（ベースアップ分） （①対象人数×②月額×③月数（R7.4～11のうち該当月数） | IE1: 助産師の賃金改善実績の有無（右欄に○・×を記載） | IF1: 賃金改善の内容 | IG1: 賃上げ（ベースアップ分）（①対象人数×②月額×③月数） | IH1: 特別手当（①対象人数×②月額×③月数） | II1: 一時金（①対象人数×②支給額） | IJ1: 令和７年４月から11月までの間の賃上げ（ベースアップ分） （①対象人数×②月額×③月数（R7.4～11のうち該当月数） | IK1: 看護師の賃金改善実績の有無（右欄に○・×を記載） | IL1: 賃金改善の内容 | IM1: 賃上げ（ベースアップ分）（①対象人数×②月額×③月数） | IN1: 特別手当（①対象人数×②月額×③月数） | IO1: 一時金（①対象人数×②支給額） | IP1: 令和７年４月から11月までの間の賃上げ（ベースアップ分） （①対象人数×②月額×③月数（R7.4～11のうち該当月数） | IQ1: 準看護師の賃金改善実績の有無（右欄に○・×を記載） | IR1: 賃金改善の内容 | IS1: 賃上げ（ベースアップ分）（①対象人数×②月額×③月数） | IT1: 特別手当（①対象人数×②月額×③月数） | IU1: 一時金（①対象人数×②支給額） | IV1: 令和７年４月から11月までの間の賃上げ（ベースアップ分） （①対象人数×②月額×③月数（R7.4～11のうち該当月数） | IW1: 看護補助者の賃金改善実績の有無（右欄に○・×を記載） | IX1: 賃金改善の内容 | IY1: 賃上げ（ベースアップ分）（①対象人数×②月額×③月数） | IZ1: 特別手当（①対象人数×②月額×③月数） | JA1: 一時金（①対象人数×②支給額） | JB1: 令和７年４月から11月までの間の賃上げ（ベースアップ分） （①対象人数×②月額×③月数（R7.4～11のうち該当月数） | JC1: 理学療法士の賃金改善実績の有無（右欄に○・×を記載） | JD1: 賃金改善の内容 | JE1: 賃上げ（ベースアップ分）（①対象人数×②月額×③月数） | JF1: 特別手当（①対象人数×②月額×③月数） | JG1: 一時金（①対象人数×②支給額） | JH1: 令和７年４月から11月までの間の賃上げ（ベースアップ分） （①対象人数×②月額×③月数（R7.4～11のうち該当月数） | JI1: 作業療法士の賃金改善実績の有無（右欄に○・×を記載） | JJ1: 賃金改善の内容 | JK1: 賃上げ（ベースアップ分）（①対象人数×②月額×③月数） | JL1: 特別手当（①対象人数×②月額×③月数） | JM1: 一時金（①対象人数×②支給額） | JN1: 令和７年４月から11月までの間の賃上げ（ベースアップ分） （①対象人数×②月額×③月数（R7.4～11のうち該当月数） | JO1: 視能訓練士の賃金改善実績の有無（右欄に○・×を記載） | JP1: 賃金改善の内容 | JQ1: 賃上げ（ベースアップ分）（①対象人数×②月額×③月数） | JR1: 特別手当（①対象人数×②月額×③月数） | JS1: 一時金（①対象人数×②支給額） | JT1: 令和７年４月から11月までの間の賃上げ（ベースアップ分） （①対象人数×②月額×③月数（R7.4～11のうち該当月数） | JU1: 言語聴覚士の賃金改善実績の有無（右欄に○・×を記載） | JV1: 賃金改善の内容 | JW1: 賃上げ（ベースアップ分）（①対象人数×②月額×③月数） | JX1: 特別手当（①対象人数×②月額×③月数） | JY1: 一時金（①対象人数×②支給額） | JZ1: 令和７年４月から11月までの間の賃上げ（ベースアップ分） （①対象人数×②月額×③月数（R7.4～11のうち該当月数） | KA1: 義肢装具士の賃金改善実績の有無（右欄に○・×を記載） | KB1: 賃金改善の内容 | KC1: 賃上げ（ベースアップ分）（①対象人数×②月額×③月数） | KD1: 特別手当（①対象人数×②月額×③月数） | KE1: 一時金（①対象人数×②支給額） | KF1: 令和７年４月から11月までの間の賃上げ（ベースアップ分） （①対象人数×②月額×③月数（R7.4～11のうち該当月数） | KG1: 歯科衛生士の賃金改善実績の有無（右欄に○・×を記載） | KH1: 賃金改善の内容 | KI1: 賃上げ（ベースアップ分）（①対象人数×②月額×③月数） | KJ1: 特別手当（①対象人数×②月額×③月数） | KK1: 一時金（①対象人数×②支給額） | KL1: 令和７年４月から11月までの間の賃上げ（ベースアップ分） （①対象人数×②月額×③月数（R7.4～11のうち該当月数） | KM1: 歯科技工士の賃金改善実績の有無（右欄に○・×を記載） | KN1: 賃金改善の内容 | KO1: 賃上げ（ベースアップ分）（①対象人数×②月額×③月数） | KP1: 特別手当（①対象人数×②月額×③月数） | KQ1: 一時金（①対象人数×②支給額） | KR1: 令和７年４月から11月までの間の賃上げ（ベースアップ分） （①対象人数×②月額×③月数（R7.4～11のうち該当月数） | KS1: 歯科業務補助者の賃金改善実績の有無（右欄に○・×を記載） | KT1: 賃金改善の内容 | KU1: 賃上げ（ベースアップ分）（①対象人数×②月額×③月数） | KV1: 特別手当（①対象人数×②月額×③月数） | KW1: 一時金（①対象人数×②支給額） | KX1: 令和７年４月から11月までの間の賃上げ（ベースアップ分） （①対象人数×②月額×③月数（R7.4～11のうち該当月数） | KY1: 診療放射線技師の賃金改善実績の有無（右欄に○・×を記載） | KZ1: 賃金改善の内容 | LA1: 賃上げ（ベースアップ分）（①対象人数×②月額×③月数） | LB1: 特別手当（①対象人数×②月額×③月数） | LC1: 一時金（①対象人数×②支給額） | LD1: 令和７年４月から11月までの間の賃上げ（ベースアップ分） （①対象人数×②月額×③月数（R7.4～11のうち該当月数） | LE1: 診療エックス線技師の賃金改善実績の有無（右欄に○・×を記載） | LF1: 賃金改善の内容 | LG1: 賃上げ（ベースアップ分）（①対象人数×②月額×③月数） | LH1: 特別手当（①対象人数×②月額×③月数） | LI1: 一時金（①対象人数×②支給額） | LJ1: 令和７年４月から11月までの間の賃上げ（ベースアップ分） （①対象人数×②月額×③月数（R7.4～11のうち該当月数） | LK1: 臨床検査技師の賃金改善実績の有無（右欄に○・×を記載） | LL1: 賃金改善の内容 | LM1: 賃上げ（ベースアップ分）（①対象人数×②月額×③月数） | LN1: 特別手当（①対象人数×②月額×③月数） | LO1: 一時金（①対象人数×②支給額） | LP1: 令和７年４月から11月までの間の賃上げ（ベースアップ分） （①対象人数×②月額×③月数（R7.4～11のうち該当月数） | LQ1: 衛生検査技師の賃金改善実績の有無（右欄に○・×を記載） | LR1: 賃金改善の内容 | LS1: 賃上げ（ベースアップ分）（①対象人数×②月額×③月数） | LT1: 特別手当（①対象人数×②月額×③月数） | LU1: 一時金（①対象人数×②支給額） | LV1: 令和７年４月から11月までの間の賃上げ（ベースアップ分） （①対象人数×②月額×③月数（R7.4～11のうち該当月数） | LW1: 臨床工学技士の賃金改善実績の有無（右欄に○・×を記載） | LX1: 賃金改善の内容 | LY1: 賃上げ（ベースアップ分）（①対象人数×②月額×③月数） | LZ1: 特別手当（①対象人数×②月額×③月数） | MA1: 一時金（①対象人数×②支給額） | MB1: 令和７年４月から11月までの間の賃上げ（ベースアップ分） （①対象人数×②月額×③月数（R7.4～11のうち該当月数） | MC1: 管理栄養士の賃金改善実績の有無（右欄に○・×を記載） | MD1: 賃金改善の内容 | ME1: 賃上げ（ベースアップ分）（①対象人数×②月額×③月数） | MF1: 特別手当（①対象人数×②月額×③月数） | MG1: 一時金（①対象人数×②支給額） | MH1: 令和７年４月から11月までの間の賃上げ（ベースアップ分） （①対象人数×②月額×③月数（R7.4～11のうち該当月数） | MI1: 栄養士の賃金改善実績の有無（右欄に○・×を記載） | MJ1: 賃金改善の内容 | MK1: 賃上げ（ベースアップ分）（①対象人数×②月額×③月数） | ML1: 特別手当（①対象人数×②月額×③月数） | MM1: 一時金（①対象人数×②支給額） | MN1: 令和７年４月から11月までの間の賃上げ（ベースアップ分） （①対象人数×②月額×③月数（R7.4～11のうち該当月数） | MO1: 精神保健福祉士の賃金改善実績の有無（右欄に○・×を記載） | MP1: 賃金改善の内容 | MQ1: 賃上げ（ベースアップ分）（①対象人数×②月額×③月数） | MR1: 特別手当（①対象人数×②月額×③月数） | MS1: 一時金（①対象人数×②支給額） | MT1: 令和７年４月から11月までの間の賃上げ（ベースアップ分） （①対象人数×②月額×③月数（R7.4～11のうち該当月数） | MU1: 社会福祉士の賃金改善実績の有無（右欄に○・×を記載） | MV1: 賃金改善の内容 | MW1: 賃上げ（ベースアップ分）（①対象人数×②月額×③月数） | MX1: 特別手当（①対象人数×②月額×③月数） | MY1: 一時金（①対象人数×②支給額） | MZ1: 令和７年４月から11月までの間の賃上げ（ベースアップ分） （①対象人数×②月額×③月数（R7.4～11のうち該当月数） | NA1: 介護福祉士の賃金改善実績の有無（右欄に○・×を記載） | NB1: 賃金改善の内容 | NC1: 賃上げ（ベースアップ分）（①対象人数×②月額×③月数） | ND1: 特別手当（①対象人数×②月額×③月数） | NE1: 一時金（①対象人数×②支給額） | NF1: 令和７年４月から11月までの間の賃上げ（ベースアップ分） （①対象人数×②月額×③月数（R7.4～11のうち該当月数） | NG1: 保育士の賃金改善実績の有無（右欄に○・×を記載） | NH1: 賃金改善の内容 | NI1: 賃上げ（ベースアップ分）（①対象人数×②月額×③月数） | NJ1: 特別手当（①対象人数×②月額×③月数） | NK1: 一時金（①対象人数×②支給額） | NL1: 令和７年４月から11月までの間の賃上げ（ベースアップ分） （①対象人数×②月額×③月数（R7.4～11のうち該当月数） | NM1: 救急救命士の賃金改善実績の有無（右欄に○・×を記載） | NN1: 賃金改善の内容 | NO1: 賃上げ（ベースアップ分）（①対象人数×②月額×③月数） | NP1: 特別手当（①対象人数×②月額×③月数） | NQ1: 一時金（①対象人数×②支給額） | NR1: 令和７年４月から11月までの間の賃上げ（ベースアップ分） （①対象人数×②月額×③月数（R7.4～11のうち該当月数） | NS1: あん摩マッサージ指圧師・はり師・きゆう師の賃金改善実績の有無（右欄に○・×を記載） | NT1: 賃金改善の内容 | NU1: 賃上げ（ベースアップ分）（①対象人数×②月額×③月数） | NV1: 特別手当（①対象人数×②月額×③月数） | NW1: 一時金（①対象人数×②支給額） | NX1: 令和７年４月から11月までの間の賃上げ（ベースアップ分） （①対象人数×②月額×③月数（R7.4～11のうち該当月数） | NY1: 柔道整復師の賃金改善実績の有無（右欄に○・×を記載） | NZ1: 賃金改善の内容 | OA1: 賃上げ（ベースアップ分）（①対象人数×②月額×③月数） | OB1: 特別手当（①対象人数×②月額×③月数） | OC1: 一時金（①対象人数×②支給額） | OD1: 令和７年４月から11月までの間の賃上げ（ベースアップ分） （①対象人数×②月額×③月数（R7.4～11のうち該当月数） | OE1: 公認心理師の賃金改善実績の有無（右欄に○・×を記載） | OF1: 賃金改善の内容 | OG1: 賃上げ（ベースアップ分）（①対象人数×②月額×③月数） | OH1: 特別手当（①対象人数×②月額×③月数） | OI1: 一時金（①対象人数×②支給額） | OJ1: 令和７年４月から11月までの間の賃上げ（ベースアップ分） （①対象人数×②月額×③月数（R7.4～11のうち該当月数） | OK1: 診療情報管理士の賃金改善実績の有無（右欄に○・×を記載） | OL1: 賃金改善の内容 | OM1: 賃上げ（ベースアップ分）（①対象人数×②月額×③月数） | ON1: 特別手当（①対象人数×②月額×③月数） | OO1: 一時金（①対象人数×②支給額） | OP1: 令和７年４月から11月までの間の賃上げ（ベースアップ分） （①対象人数×②月額×③月数（R7.4～11のうち該当月数） | OQ1: 医師事務作業補助者の賃金改善実績の有無（右欄に○・×を記載） | OR1: 賃金改善の内容 | OS1: 賃上げ（ベースアップ分）（①対象人数×②月額×③月数） | OT1: 特別手当（①対象人数×②月額×③月数） | OU1: 一時金（①対象人数×②支給額） | OV1: 令和７年４月から11月までの間の賃上げ（ベースアップ分） （①対象人数×②月額×③月数（R7.4～11のうち該当月数） | OW1: その他医療に従事する職員（医師及び歯科医師を除く。）の賃金改善実績の有無（右欄に○・×を記載） | OX1: 賃金改善の内容 | OY1: 賃上げ（ベースアップ分）（①対象人数×②月額×③月数） | OZ1: 特別手当（①対象人数×②月額×③月数） | PA1: 一時金（①対象人数×②支給額） | PB1: 令和７年４月から11月までの間の賃上げ（ベースアップ分） （①対象人数×②月額×③月数（R7.4～11のうち該当月数） | PC1: その他専ら事務作業（医師事務作業補助者、看護補助者等が医療を専門とする職員の補助として行う事務作業を除く）を行う職員の賃金改善実績の有無（右欄に○・×を記載） | PD1: 賃金改善の内容 | PE1: 賃上げ（ベースアップ分）（①対象人数×②月額×③月数） | PF1: 特別手当（①対象人数×②月額×③月数） | PG1: 一時金（①対象人数×②支給額） | PH1: 令和７年４月から11月までの間の賃上げ（ベースアップ分） （①対象人数×②月額×③月数（R7.4～11のうち該当月数）
A2: =【総額及び平均額】賃上げ支援事業実績報告書!$E3 -> 0 | B2: =【総額及び平均額】賃上げ支援事業実績報告書!$E4 -> 0 | D2: =【総額及び平均額】賃上げ支援事業実績報告書!#REF! -> #REF! | E2: =【総額及び平均額】賃上げ支援事業実績報告書!$B8 -> ①対象人数 （常勤換算数） | F2: =【総額及び平均額】賃上げ支援事業実績報告書!$B9 -> 0 | G2: =【総額及び平均額】賃上げ支援事業実績報告書!#REF! -> #REF! | H2: =【総額及び平均額】賃上げ支援事業実績報告書!$B12 -> 0 | I2: =【総額及び平均額】賃上げ支援事業実績報告書!$B13 -> 0 | J2: =【総額及び平均額】賃上げ支援事業実績報告書!#REF! -> #REF! | K2: =【総額及び平均額】賃上げ支援事業実績報告書!$B15 -> ①対象人数 （常勤換算数） | L2: =【総額及び平均額】賃上げ支援事業実績報告書!#REF! -> #REF! | M2: =【総額及び平均額】賃上げ支援事業実績報告書!#REF! -> #REF! | N2: =【総額及び平均額】賃上げ支援事業実績報告書!#REF! -> #REF! | O2: =【総額及び平均額】賃上げ支援事業実績報告書!#REF! -> #REF! | P2: =【総額及び平均額】賃上げ支援事業実績報告書!#REF! -> #REF! | Q2: =【総額及び平均額】賃上げ支援事業実績報告書!#REF! -> #REF! | R2: =【総額及び平均額】賃上げ支援事業実績報告書!#REF! -> #REF! | S2: =【総額及び平均額】賃上げ支援事業実績報告書!#REF! -> #REF! | ... HE2: =【総額及び平均額】賃上げ支援事業実績報告書!#REF! -> #REF! | HG2: =【総額及び平均額】賃上げ支援事業実績報告書!#REF! -> #REF! | HH2: =【総額及び平均額】賃上げ支援事業実績報告書!#REF! -> #REF! | HI2: =【総額及び平均額】賃上げ支援事業実績報告書!#REF! -> #REF! | HJ2: =【総額及び平均額】賃上げ支援事業実績報告書!#REF! -> #REF! | HK2: =【総額及び平均額】賃上げ支援事業実績報告書!#REF! -> #REF! | HL2: =【総額及び平均額】賃上げ支援事業実績報告書!#REF! -> #REF! | HM2: =【総額及び平均額】賃上げ支援事業実績報告書!#REF! -> #REF! | HN2: =【総額及び平均額】賃上げ支援事業実績報告書!#REF! -> #REF! | ... PH2: =【総額及び平均額】賃上げ支援事業実績報告書!#REF! -> #REF!
D3: =【総額及び平均額】賃上げ支援事業実績報告書!#REF! -> #REF! | E3: =【総額及び平均額】賃上げ支援事業実績報告書!#REF! -> #REF! | F3: =【総額及び平均額】賃上げ支援事業実績報告書!#REF! -> #REF! | G3: =【総額及び平均額】賃上げ支援事業実績報告書!#REF! -> #REF! | H3: =【総額及び平均額】賃上げ支援事業実績報告書!#REF! -> #REF! | I3: =【総額及び平均額】賃上げ支援事業実績報告書!#REF! -> #REF! | J3: =【総額及び平均額】賃上げ支援事業実績報告書!#REF! -> #REF! | K3: =【総額及び平均額】賃上げ支援事業実績報告書!#REF! -> #REF! | ... HE3: =【総額及び平均額】賃上げ支援事業実績報告書!#REF! -> #REF! | HG3: =【総額及び平均額】賃上げ支援事業実績報告書!#REF! -> #REF! | HH3: =【総額及び平均額】賃上げ支援事業実績報告書!$F8 -> 賃金改善の総額 （自動計算） | HI3: =【総額及び平均額】賃上げ支援事業実績報告書!$G9 -> 0 | HJ3: =【総額及び平均額】賃上げ支援事業実績報告書!#REF! -> #REF! | HK3: =【総額及び平均額】賃上げ支援事業実績報告書!$G12 -> 0 | HL3: =【総額及び平均額】賃上げ支援事業実績報告書!$G13 -> 0 | HM3: =【総額及び平均額】賃上げ支援事業実績報告書!#REF! -> #REF! | HN3: =【総額及び平均額】賃上げ支援事業実績報告書!$F15 -> 賃金改善の総額 （自動計算） | HO3: =【総額及び平均額】賃上げ支援事業実績報告書!#REF! -> #REF! | HP3: =【総額及び平均額】賃上げ支援事業実績報告書!#REF! -> #REF! | HQ3: =【総額及び平均額】賃上げ支援事業実績報告書!#REF! -> #REF! | HR3: =【総額及び平均額】賃上げ支援事業実績報告書!#REF! -> #REF! | HS3: =【総額及び平均額】賃上げ支援事業実績報告書!#REF! -> #REF! | HT3: =【総額及び平均額】賃上げ支援事業実績報告書!#REF! -> #REF! | HU3: =【総額及び平均額】賃上げ支援事業実績報告書!#REF! -> #REF! | HV3: =【総額及び平均額】賃上げ支援事業実績報告書!#REF! -> #REF! | ... PH3: =【総額及び平均額】賃上げ支援事業実績報告書!#REF! -> #REF!

Sheet 都道府県リスト
A1: ※都道府県名を選択してください
A2: 01北海道 | B2: 1
A3: 02青森県 | B3: 2
A4: 03岩手県 | B4: 3
A5: 04宮城県 | B5: 4
A6: 05秋田県 | B6: 5
A7: 06山形県 | B7: 6
A8: 07福島県 | B8: 7
A9: 08茨城県 | B9: 8
A10: 09栃木県 | B10: 9
A11: 10群馬県 | B11: 10
A12: 11埼玉県 | B12: 11
A13: 12千葉県 | B13: 12
... A48: 47沖縄県 | B48: 47
